Workbook
Name \: #REF!
Name \0: #REF!
Name \a: #REF!
Name \d: #N/A
Name \f: #N/A
Name \I: #REF!
Name \p: #N/A
Name \S: #REF!
Name \z: [2]MARSHALL!$M$3
Name _: NA()
Name ______________________CAP20: #REF!
Name ______________________TB10: #REF!
Name ______________________TCB5: #REF!
Name ______________________tcc4: #REF!
Name _____________________CAP20: #REF!
Name _____________________TB10: #REF!
Name _____________________TCB5: #REF!
Name _____________________tcc4: #REF!
Name ____________________tcc4: #REF!
Name ___________________CAP20: #REF!
Name ___________________TB10: #REF!
Name ___________________TCB5: #REF!
Name ___________________tcc4: #REF!
Name __________________CAP20: #REF!
Name __________________TB10: #REF!
Name __________________TCB5: #REF!
Name __________________tcc4: #REF!
Name _________________CAP20: #REF!
Name _________________TB10: #REF!
Name _________________TCB5: #REF!
Name _________________tcc4: #REF!
Name ________________CAP20: #REF!
Name ________________TB10: #REF!
Name ________________TCB5: #REF!
Name ________________tcc4: #REF!
Name _______________CAP20: #REF!
Name _______________r: #REF!
Name _______________TB10: #REF!
Name _______________TCB5: #REF!
Name _______________tcc4: #REF!
Name ______________CAP20: #REF!
Name ______________PL1: #REF!
Name ______________r: #REF!
Name ______________TB10: #REF!
Name ______________TCB5: #REF!
Name ______________tcc4: #REF!
Name _____________CAP20: #REF!
Name _____________PL1: #REF!
Name _____________r: #REF!
Name _____________TB10: #REF!
Name _____________TCB5: #REF!
Name _____________tcc4: #REF!
Name ____________CAP20: #REF!
Name ____________Ext2: #REF!
Name ____________PL1: #REF!
Name ____________r: #REF!
Name ____________TB10: #REF!
Name ____________TCB5: #REF!
Name ____________tcc4: #REF!
Name ___________CAP20: #REF!

Sheet CFF
A1: DADOS
A2: OBJETO: | B2: =[1]DADOS!C4 -> REGISTRO DE PREÇOS PARA CONTRATAÇÃO DE SERVIÇOS DE EXECUÇÃO DE PAVIMENTAÇÃO, CAPEAMENTO E RECAPEAMENTO ASFÁLTICO COM CONCRETO BETUMINOSO USINADO A QUENTE (CBUQ), DE PAVIMENTAÇÃO EM PEDRA GRANÍTICA, E PAVIMENTAÇÃO EM BLOCO INTERTRAVADO DE CONCRETO (BLOQUETE), NAS REGIÕES AGRESTE, MATA SUL, MATA NORTE E REGIÃO METROPOLITANA DO ESTADO DE PERNAMBUCO
E3: COMPANHIA ESTADUAL DE HABITAÇÃO E OBRAS DE PERNAMBUCO DIRETORIA DE OBRAS DE HABITAÇÃO E DESENVOLVIMENTO URBANO | AG3: Ajuste após a conclusão da ABA RESUMO
A4: DATA-BASE: | B4: =[1]DADOS!$E$6 -> 45809 | C4: DESONERAÇÃO: | D4: =[1]DADOS!$C$7 -> Não Desonerado
A5: TABELAS DE REFERÊNCIA
A6: SINAPI | B6: =[1]DADOS!$C$12 -> 45809 | C6: SICRO | D6: =[1]DADOS!$E$12 -> 45748
A7: COMPESA | B7: =[1]DADOS!$C$13 -> 2024.2 | C7: SEINFRA | D7: =[1]DADOS!$E$13 -> 0
A8: ORSE | B8: =[1]DADOS!$C$14 -> 45778 | C8: OUTROS | D8: =[1]DADOS!$E$14 -> 0 | E8: ANEXO B CRONOGRAMA FÍSICO FINANCEIRO Peça integrante do Volume Licitatório
A9: ÍNDICE | B9: BDI | C9: COM DESON. | D9: SEM DESON.
A10: 1 | B10: PADRÃO PAV
A11: 2 | B11: DIFERENCIADO PAV
A12: 3 | B12: PADRÃO EDIFICAÇÃO
A13: 4 | B13: DIFERENCIADO EDIFICAÇÃO
A14: 5 | B14: MATERIAIS
A15: 6 | B15: LOC. BENS MÓVEIS | H15: =[1]ORÇAMENTO!B22 -> LOTE 04 - AGRESTE CENTRAL
A20: N.º | B20: ITENS DE INVESTIMENTO | C20: VALOR PREVISTO | E20: Mês 01 | G20: Mês 02 | I20: Mês 03 | K20: Mês 04 | M20: Mês 05 | O20: Mês 06 | Q20: Mês 07 | S20: Mês 08 | U20: Mês 09 | W20: Mês 10 | Y20: Mês 11 | AA20: Mês 12 | AC20: Coluna de Verificação
C21: R$ | D21: % | E21: R$ | F21: % | G21: R$ | H21: % | I21: R$ | J21: % | K21: R$ | L21: % | M21: R$ | N21: % | O21: R$ | P21: % | Q21: R$ | R21: % | S21: R$ | T21: % | U21: R$ | V21: % | W21: R$ | X21: % | Y21: R$ | Z21: % | AA21: R$ | AB21: %
A22: 1. | B22: =VLOOKUP(A22,[1]ORÇAMENTO!$A$23:$T$355,9,FALSE) -> SERVIÇOS PRELIMINARES (PROJETOS E CANTEIRO DE OBRAS) | C22: =VLOOKUP(A22,[1]ORÇAMENTO!$A$23:$T$355,20,FALSE) -> 525102.12 | D22: =ROUND(C22/$C$70,4) -> 0.0069
A23: 1.1 | B23: =VLOOKUP(A23,[1]ORÇAMENTO!$A$23:$T$355,9,FALSE) -> CANTEIRO DE OBRAS | C23: =VLOOKUP(A23,[1]ORÇAMENTO!$A$23:$T$355,20,FALSE) -> 442162.04 | D23: =ROUND(C23/$C$22,4) -> 0.842 | AC23: =E23+G23+I23+K23+M23+O23+Q23+S23+U23+W23+Y23+AA23 -> 0 | AD23: =IF(AC23=C23,"OK","ERRO") -> ERRO | AE23: =C23-E23-G23-I23-K23-M23-O23-Q23-S23-U23-W23 -> 442162.04 | AF23: =F23+H23+J23+L23+N23+P23+R23+T23+V23+X23+Z23+AB23 -> 0
A24: 1.2 | B24: =VLOOKUP(A24,[1]ORÇAMENTO!$A$23:$T$355,9,FALSE) -> MOBILIZAÇÃO | C24: =VLOOKUP(A24,[1]ORÇAMENTO!$A$23:$T$355,20,FALSE) -> 41470.04 | D24: =ROUND(C24/$C$22,4) -> 0.079 | AC24: =E24+G24+I24+K24+M24+O24+Q24+S24+U24+W24+Y24+AA24 -> 0 | AD24: =IF(AC24=C24,"OK","ERRO") -> ERRO | AE24: =C24-E24-G24-I24-K24-M24-O24-Q24-S24-U24-W24-Y24 -> 41470.04 | AF24: =F24+H24+J24+L24+N24+P24+R24+T24+V24+X24+Z24+AB24 -> 0
A25: 1.3 | B25: =VLOOKUP(A25,[1]ORÇAMENTO!$A$23:$T$355,9,FALSE) -> DESMOBILIZAÇÃO | C25: =VLOOKUP(A25,[1]ORÇAMENTO!$A$23:$T$355,20,FALSE) -> 41470.04 | D25: =ROUND(C25/$C$22,4) -> 0.079 | AC25: =E25+G25+I25+K25+M25+O25+Q25+S25+U25+W25+Y25+AA25 -> 0 | AD25: =IF(AC25=C25,"OK","ERRO") -> ERRO | AE25: =C25-E25-G25-I25-K25-M25-O25-Q25-S25-U25-W25-Y25 -> 41470.04 | AF25: =F25+H25+J25+L25+N25+P25+R25+T25+V25+X25+Z25+AB25 -> 0
A26: 2. | B26: =VLOOKUP(A26,[1]ORÇAMENTO!$A$23:$T$355,9,FALSE) -> EXECUÇÃO DE SERVIÇOS DE ENGENHARIA DE PAVIMENTAÇÃO ASFÁLTICA | C26: =VLOOKUP(A26,[1]ORÇAMENTO!$A$23:$T$355,20,FALSE) -> 15773758 | D26: =ROUND(C26/$C$70,4) -> 0.2073
A27: 2.1 | B27: =VLOOKUP(A27,[1]ORÇAMENTO!$A$23:$T$355,9,FALSE) -> ADMINISTRAÇÃO LOCAL | C27: =VLOOKUP(A27,[1]ORÇAMENTO!$A$23:$T$355,20,FALSE) -> 574316.3 | D27: =ROUND(C27/$C$26,4) -> 0.0364 | AC27: =E27+G27+I27+K27+M27+O27+Q27+S27+U27+W27+Y27+AA27 -> 0 | AD27: =IF(AC27=C27,"OK","ERRO") -> ERRO | AE27: =C27-E27-G27-I27-K27-M27-O27-Q27-S27-U27-W27-Y27 -> 574316.3 | AF27: =F27+H27+J27+L27+N27+P27+R27+T27+V27+X27+Z27+AB27 -> 0
A28: 2.2 | B28: =VLOOKUP(A28,[1]ORÇAMENTO!$A$23:$T$355,9,FALSE) -> SERVIÇOS PRELIMINARES | C28: =VLOOKUP(A28,[1]ORÇAMENTO!$A$23:$T$355,20,FALSE) -> 450003.12 | D28: =ROUND(C28/$C$26,4) -> 0.0285 | AC28: =E28+G28+I28+K28+M28+O28+Q28+S28+U28+W28+Y28+AA28 -> 0 | AD28: =IF(AC28=C28,"OK","ERRO") -> ERRO | AE28: =C28-E28-G28-I28-K28-M28-O28-Q28-S28-U28-W28-Y28 -> 450003.12 | AF28: =F28+H28+J28+L28+N28+P28+R28+T28+V28+X28+Z28+AB28 -> 0
A29: 2.3 | B29: =VLOOKUP(A29,[1]ORÇAMENTO!$A$23:$T$355,9,FALSE) -> MOBILIZAÇÃO | C29: =VLOOKUP(A29,[1]ORÇAMENTO!$A$23:$T$355,20,FALSE) -> 383162.5 | D29: =ROUND(C29/$C$26,4) -> 0.0243 | AC29: =E29+G29+I29+K29+M29+O29+Q29+S29+U29+W29+Y29+AA29 -> 0 | AD29: =IF(AC29=C29,"OK","ERRO") -> ERRO | AE29: =C29-E29-G29-I29-K29-M29-O29-Q29-S29-U29-W29-Y29 -> 383162.5 | AF29: =F29+H29+J29+L29+N29+P29+R29+T29+V29+X29+Z29+AB29 -> 0
A30: 2.4 | B30: =VLOOKUP(A30,[1]ORÇAMENTO!$A$23:$T$355,9,FALSE) -> DESMOBILIZAÇÃO | C30: =VLOOKUP(A30,[1]ORÇAMENTO!$A$23:$T$355,20,FALSE) -> 383162.5 | D30: =ROUND(C30/$C$26,4) -> 0.0243 | AC30: =E30+G30+I30+K30+M30+O30+Q30+S30+U30+W30+Y30+AA30 -> 0 | AD30: =IF(AC30=C30,"OK","ERRO") -> ERRO | AE30: =C30-E30-G30-I30-K30-M30-O30-Q30-S30-U30-W30-Y30 -> 383162.5 | AF30: =F30+H30+J30+L30+N30+P30+R30+T30+V30+X30+Z30+AB30 -> 0
A31: 2.5 | B31: =VLOOKUP(A31,[1]ORÇAMENTO!$A$23:$T$355,9,FALSE) -> MOVIMENTAÇÃO DE TERRA | C31: =VLOOKUP(A31,[1]ORÇAMENTO!$A$23:$T$355,20,FALSE) -> 858063.88 | D31: =ROUND(C31/$C$26,4) -> 0.0544 | AC31: =E31+G31+I31+K31+M31+O31+Q31+S31+U31+W31+Y31+AA31 -> 0 | AD31: =IF(AC31=C31,"OK","ERRO") -> ERRO | AE31: =C31-E31-G31-I31-K31-M31-O31-Q31-S31-U31-W31-Y31 -> 858063.88 | AF31: =F31+H31+J31+L31+N31+P31+R31+T31+V31+X31+Z31+AB31 -> 0
A32: 2.6 | B32: =VLOOKUP(A32,[1]ORÇAMENTO!$A$23:$T$355,9,FALSE) -> PAVIMENTAÇÃO EM CBUQ (CONCRETO BETUMINOSO USINADO À QUENTE) | C32: =VLOOKUP(A32,[1]ORÇAMENTO!$A$23:$T$355,20,FALSE) -> 7575086.9 | D32: =ROUND(C32/$C$26,4) -> 0.4802 | AC32: =E32+G32+I32+K32+M32+O32+Q32+S32+U32+W32+Y32+AA32 -> 0 | AD32: =IF(AC32=C32,"OK","ERRO") -> ERRO | AE32: =C32-E32-G32-I32-K32-M32-O32-Q32-S32-U32-W32-Y32 -> 7575086.9 | AF32: =F32+H32+J32+L32+N32+P32+R32+T32+V32+X32+Z32+AB32 -> 0
A33: 2.7 | B33: =VLOOKUP(A33,[1]ORÇAMENTO!$A$23:$T$355,9,FALSE) -> PASSEIO/PROTEÇÃO DE GUIA | C33: =VLOOKUP(A33,[1]ORÇAMENTO!$A$23:$T$355,20,FALSE) -> 1968369.6 | D33: =ROUND(C33/$C$26,4) -> 0.1248 | AC33: =E33+G33+I33+K33+M33+O33+Q33+S33+U33+W33+Y33+AA33 -> 0 | AD33: =IF(AC33=C33,"OK","ERRO") -> ERRO | AE33: =C33-E33-G33-I33-K33-M33-O33-Q33-S33-U33-W33-Y33 -> 1968369.6 | AF33: =F33+H33+J33+L33+N33+P33+R33+T33+V33+X33+Z33+AB33 -> 0
A34: 2.8 | B34: =VLOOKUP(A34,[1]ORÇAMENTO!$A$23:$T$355,9,FALSE) -> DRENAGEM | C34: =VLOOKUP(A34,[1]ORÇAMENTO!$A$23:$T$355,20,FALSE) -> 2669943.4 | D34: =ROUND(C34/$C$26,4) -> 0.1693 | AC34: =E34+G34+I34+K34+M34+O34+Q34+S34+U34+W34+Y34+AA34 -> 0 | AD34: =IF(AC34=C34,"OK","ERRO") -> ERRO | AE34: =C34-E34-G34-I34-K34-M34-O34-Q34-S34-U34-W34-Y34 -> 2669943.4 | AF34: =F34+H34+J34+L34+N34+P34+R34+T34+V34+X34+Z34+AB34 -> 0
A35: 2.9 | B35: =VLOOKUP(A35,[1]ORÇAMENTO!$A$23:$T$355,9,FALSE) -> SINALIZAÇÃO VIÁRIA VERTICAL | C35: =VLOOKUP(A35,[1]ORÇAMENTO!$A$23:$T$355,20,FALSE) -> 278892.51 | D35: =ROUND(C35/$C$26,4) -> 0.0177 | AC35: =E35+G35+I35+K35+M35+O35+Q35+S35+U35+W35+Y35+AA35 -> 0 | AD35: =IF(AC35=C35,"OK","ERRO") -> ERRO | AE35: =C35-E35-G35-I35-K35-M35-O35-Q35-S35-U35-W35-Y35 -> 278892.51 | AF35: =F35+H35+J35+L35+N35+P35+R35+T35+V35+X35+Z35+AB35 -> 0
A36: 2.10 | B36: =VLOOKUP(A36,[1]ORÇAMENTO!$A$23:$T$355,9,FALSE) -> SINALIZAÇÃO VIÁRIA HORIZONTAL | C36: =VLOOKUP(A36,[1]ORÇAMENTO!$A$23:$T$355,20,FALSE) -> 304488.92 | D36: =ROUND(C36/$C$26,4) -> 0.0193 | AC36: =E36+G36+I36+K36+M36+O36+Q36+S36+U36+W36+Y36+AA36 -> 0 | AD36: =IF(AC36=C36,"OK","ERRO") -> ERRO | AE36: =C36-E36-G36-I36-K36-M36-O36-Q36-S36-U36-W36-Y36 -> 304488.92 | AF36: =F36+H36+J36+L36+N36+P36+R36+T36+V36+X36+Z36+AB36 -> 0
A37: 2.11 | B37: =VLOOKUP(A37,[1]ORÇAMENTO!$A$23:$T$355,9,FALSE) -> SERVIÇOS COMPLEMENTARES E SINALIZAÇÃO DE OBRA | C37: =VLOOKUP(A37,[1]ORÇAMENTO!$A$23:$T$355,20,FALSE) -> 328267.79 | D37: =ROUND(C37/$C$26,4) -> 0.0208 | AC37: =E37+G37+I37+K37+M37+O37+Q37+S37+U37+W37+Y37+AA37 -> 0 | AD37: =IF(AC37=C37,"OK","ERRO") -> ERRO | AE37: =C37-E37-G37-I37-K37-M37-O37-Q37-S37-U37-W37-Y37 -> 328267.79 | AF37: =F37+H37+J37+L37+N37+P37+R37+T37+V37+X37+Z37+AB37 -> 0
A38: 3. | B38: =VLOOKUP(A38,[1]ORÇAMENTO!$A$23:$T$355,9,FALSE) -> EXECUÇÃO DE SERVIÇOS DE ENGENHARIA PARA PAVIMENTAÇÃO DE VIA EM PEDRA GRANÍTICA | C38: =VLOOKUP(A38,[1]ORÇAMENTO!$A$23:$T$355,20,FALSE) -> 8610704.8 | D38: =ROUND(C38/$C$70,4) -> 0.1132
A39: 3.1 | B39: =VLOOKUP(A39,[1]ORÇAMENTO!$A$23:$T$355,9,FALSE) -> ADMINISTRAÇÃO LOCAL | C39: =VLOOKUP(A39,[1]ORÇAMENTO!$A$23:$T$355,20,FALSE) -> 532308.17 | D39: =ROUND(C39/$C$38,4) -> 0.0618 | AC39: =E39+G39+I39+K39+M39+O39+Q39+S39+U39+W39+Y39+AA39 -> 0 | AD39: =IF(AC39=C39,"OK","ERRO") -> ERRO | AE39: =C39-E39-G39-I39-K39-M39-O39-Q39-S39-U39-W39-Y39 -> 532308.17 | AF39: =F39+H39+J39+L39+N39+P39+R39+T39+V39+X39+Z39+AB39 -> 0
A40: 3.2 | B40: =VLOOKUP(A40,[1]ORÇAMENTO!$A$23:$T$355,9,FALSE) -> SERVIÇOS PRELIMINARES | C40: =VLOOKUP(A40,[1]ORÇAMENTO!$A$23:$T$355,20,FALSE) -> 448203.3 | D40: =ROUND(C40/$C$38,4) -> 0.0521 | AC40: =E40+G40+I40+K40+M40+O40+Q40+S40+U40+W40+Y40+AA40 -> 0 | AD40: =IF(AC40=C40,"OK","ERRO") -> ERRO | AE40: =C40-E40-G40-I40-K40-M40-O40-Q40-S40-U40-W40-Y40 -> 448203.3 | AF40: =F40+H40+J40+L40+N40+P40+R40+T40+V40+X40+Z40+AB40 -> 0
A41: 3.3 | B41: =VLOOKUP(A41,[1]ORÇAMENTO!$A$23:$T$355,9,FALSE) -> MOBILIZAÇÃO | C41: =VLOOKUP(A41,[1]ORÇAMENTO!$A$23:$T$355,20,FALSE) -> 7170 | D41: =ROUND(C41/$C$38,4) -> 0.0008 | AC41: =E41+G41+I41+K41+M41+O41+Q41+S41+U41+W41+Y41+AA41 -> 0 | AD41: =IF(AC41=C41,"OK","ERRO") -> ERRO | AE41: =C41-E41-G41-I41-K41-M41-O41-Q41-S41-U41-W41-Y41 -> 7170 | AF41: =F41+H41+J41+L41+N41+P41+R41+T41+V41+X41+Z41+AB41 -> 0
A42: 3.4 | B42: =VLOOKUP(A42,[1]ORÇAMENTO!$A$23:$T$355,9,FALSE) -> DESMOBILIZAÇÃO | C42: =VLOOKUP(A42,[1]ORÇAMENTO!$A$23:$T$355,20,FALSE) -> 7170 | D42: =ROUND(C42/$C$38,4) -> 0.0008 | AC42: =E42+G42+I42+K42+M42+O42+Q42+S42+U42+W42+Y42+AA42 -> 0 | AD42: =IF(AC42=C42,"OK","ERRO") -> ERRO | AE42: =C42-E42-G42-I42-K42-M42-O42-Q42-S42-U42-W42-Y42 -> 7170 | AF42: =F42+H42+J42+L42+N42+P42+R42+T42+V42+X42+Z42+AB42 -> 0
A43: 3.5 | B43: =VLOOKUP(A43,[1]ORÇAMENTO!$A$23:$T$355,9,FALSE) -> MOVIMENTAÇÃO DE TERRA | C43: =VLOOKUP(A43,[1]ORÇAMENTO!$A$23:$T$355,20,FALSE) -> 524792.43 | D43: =ROUND(C43/$C$38,4) -> 0.0609 | AC43: =E43+G43+I43+K43+M43+O43+Q43+S43+U43+W43+Y43+AA43 -> 0 | AD43: =IF(AC43=C43,"OK","ERRO") -> ERRO | AE43: =C43-E43-G43-I43-K43-M43-O43-Q43-S43-U43-W43-Y43 -> 524792.43 | AF43: =F43+H43+J43+L43+N43+P43+R43+T43+V43+X43+Z43+AB43 -> 0
A44: 3.6 | B44: =VLOOKUP(A44,[1]ORÇAMENTO!$A$23:$T$355,9,FALSE) -> PAVIMENTAÇÃO EM PEDRA GRANÍTICA | C44: =VLOOKUP(A44,[1]ORÇAMENTO!$A$23:$T$355,20,FALSE) -> 4878151.9 | D44: =ROUND(C44/$C$38,4) -> 0.5665 | AC44: =E44+G44+I44+K44+M44+O44+Q44+S44+U44+W44+Y44+AA44 -> 0 | AD44: =IF(AC44=C44,"OK","ERRO") -> ERRO | AE44: =C44-E44-G44-I44-K44-M44-O44-Q44-S44-U44-W44-Y44 -> 4878151.9 | AF44: =F44+H44+J44+L44+N44+P44+R44+T44+V44+X44+Z44+AB44 -> 0
...
