Workbook
Name \: #REF!
Name \0: #REF!
Name \a: #REF!
Name \d: #N/A
Name \f: #N/A
Name \I: #REF!
Name \p: #N/A
Name \S: #REF!
Name \z: [2]MARSHALL!$M$3
Name _: NA()
Name ______________________CAP20: #REF!
Name ______________________TB10: #REF!
Name ______________________TCB5: #REF!
Name ______________________tcc4: #REF!
Name _____________________CAP20: #REF!
Name _____________________TB10: #REF!
Name _____________________TCB5: #REF!
Name _____________________tcc4: #REF!
Name ____________________tcc4: #REF!
Name ___________________CAP20: #REF!
Name ___________________TB10: #REF!
Name ___________________TCB5: #REF!
Name ___________________tcc4: #REF!
Name __________________CAP20: #REF!
Name __________________TB10: #REF!
Name __________________TCB5: #REF!
Name __________________tcc4: #REF!
Name _________________CAP20: #REF!
Name _________________TB10: #REF!
Name _________________TCB5: #REF!
Name _________________tcc4: #REF!
Name ________________CAP20: #REF!
Name ________________TB10: #REF!
Name ________________TCB5: #REF!
Name ________________tcc4: #REF!
Name _______________CAP20: #REF!
Name _______________r: #REF!
Name _______________TB10: #REF!
Name _______________TCB5: #REF!
Name _______________tcc4: #REF!
Name ______________CAP20: #REF!
Name ______________PL1: #REF!
Name ______________r: #REF!
Name ______________TB10: #REF!
Name ______________TCB5: #REF!
Name ______________tcc4: #REF!
Name _____________CAP20: #REF!
Name _____________PL1: #REF!
Name _____________r: #REF!
Name _____________TB10: #REF!
Name _____________TCB5: #REF!
Name _____________tcc4: #REF!
Name ____________CAP20: #REF!
Name ____________Ext2: #REF!
Name ____________PL1: #REF!
Name ____________r: #REF!
Name ____________TB10: #REF!
Name ____________TCB5: #REF!
Name ____________tcc4: #REF!
Name ___________CAP20: #REF!

Sheet CFF
A1: DADOS
A2: OBJETO: | B2: =[1]DADOS!C4 -> REGISTRO DE PREÇOS PARA CONTRATAÇÃO DE SERVIÇOS DE EXECUÇÃO DE PAVIMENTAÇÃO, CAPEAMENTO E RECAPEAMENTO ASFÁLTICO COM CONCRETO BETUMINOSO USINADO A QUENTE (CBUQ), DE PAVIMENTAÇÃO EM PEDRA GRANÍTICA, E PAVIMENTAÇÃO EM BLOCO INTERTRAVADO DE CONCRETO (BLOQUETE), NAS REGIÕES AGRESTE, MATA SUL, MATA NORTE E REGIÃO METROPOLITANA DO ESTADO DE PERNAMBUCO
E3: COMPANHIA ESTADUAL DE HABITAÇÃO E OBRAS DE PERNAMBUCO DIRETORIA DE OBRAS DE HABITAÇÃO E DESENVOLVIMENTO URBANO | AG3: Ajuste após a conclusão da ABA RESUMO
A4: DATA-BASE: | B4: =[1]DADOS!$E$6 -> 45809 | C4: DESONERAÇÃO: | D4: =[1]DADOS!$C$7 -> Não Desonerado
A5: TABELAS DE REFERÊNCIA
A6: SINAPI | B6: =[1]DADOS!$C$12 -> 45809 | C6: SICRO | D6: =[1]DADOS!$E$12 -> 45748
A7: COMPESA | B7: =[1]DADOS!$C$13 -> 2024.2 | C7: SEINFRA | D7: =[1]DADOS!$E$13 -> 0
A8: ORSE | B8: =[1]DADOS!$C$14 -> 45778 | C8: OUTROS | D8: =[1]DADOS!$E$14 -> 0 | E8: ANEXO B CRONOGRAMA FÍSICO FINANCEIRO Peça integrante do Volume Licitatório
A9: ÍNDICE | B9: BDI | C9: COM DESON. | D9: SEM DESON.
A10: 1 | B10: PADRÃO PAV
A11: 2 | B11: DIFERENCIADO PAV
A12: 3 | B12: PADRÃO EDIFICAÇÃO
A13: 4 | B13: DIFERENCIADO EDIFICAÇÃO
A14: 5 | B14: MATERIAIS
A15: 6 | B15: LOC. BENS MÓVEIS | H15: =[1]ORÇAMENTO!B22 -> LOTE 04 - AGRESTE CENTRAL
A20: N.º | B20: ITENS DE INVESTIMENTO | C20: VALOR PREVISTO | E20: Mês 01 | G20: Mês 02 | I20: Mês 03 | K20: Mês 04 | M20: Mês 05 | O20: Mês 06 | Q20: Mês 07 | S20: Mês 08 | U20: Mês 09 | W20: Mês 10 | Y20: Mês 11 | AA20: Mês 12 | AC20: Coluna de Verificação
C21: R$ | D21: % | E21: R$ | F21: % | G21: R$ | H21: % | I21: R$ | J21: % | K21: R$ | L21: % | M21: R$ | N21: % | O21: R$ | P21: % | Q21: R$ | R21: % | S21: R$ | T21: % | U21: R$ | V21: % | W21: R$ | X21: % | Y21: R$ | Z21: % | AA21: R$ | AB21: %
A22: 1. | B22: =VLOOKUP(A22,[1]ORÇAMENTO!$A$23:$T$355,9,FALSE) -> SERVIÇOS PRELIMINARES (PROJETOS E CANTEIRO DE OBRAS) | C22: =VLOOKUP(A22,[1]ORÇAMENTO!$A$23:$T$355,20,FALSE) -> 525102.12 | D22: =ROUND(C22/$C$70,4) -> 0.0069
A23: 1.1 | B23: =VLOOKUP(A23,[1]ORÇAMENTO!$A$23:$T$355,9,FALSE) -> CANTEIRO DE OBRAS | C23: =VLOOKUP(A23,[1]ORÇAMENTO!$A$23:$T$355,20,FALSE) -> 442162.04 | D23: =ROUND(C23/$C$22,4) -> 0.842 | AC23: =E23+G23+I23+K23+M23+O23+Q23+S23+U23+W23+Y23+AA23 -> 0 | AD23: =IF(AC23=C23,"OK","ERRO") -> ERRO | AE23: =C23-E23-G23-I23-K23-M23-O23-Q23-S23-U23-W23 -> 442162.04 | AF23: =F23+H23+J23+L23+N23+P23+R23+T23+V23+X23+Z23+AB23 -> 0
A24: 1.2 | B24: =VLOOKUP(A24,[1]ORÇAMENTO!$A$23:$T$355,9,FALSE) -> MOBILIZAÇÃO | C24: =VLOOKUP(A24,[1]ORÇAMENTO!$A$23:$T$355,20,FALSE) -> 41470.04 | D24: =ROUND(C24/$C$22,4) -> 0.079 | AC24: =E24+G24+I24+K24+M24+O24+Q24+S24+U24+W24+Y24+AA24 -> 0 | AD24: =IF(AC24=C24,"OK","ERRO") -> ERRO | AE24: =C24-E24-G24-I24-K24-M24-O24-Q24-S24-U24-W24-Y24 -> 41470.04 | AF24: =F24+H24+J24+L24+N24+P24+R24+T24+V24+X24+Z24+AB24 -> 0
A25: 1.3 | B25: =VLOOKUP(A25,[1]ORÇAMENTO!$A$23:$T$355,9,FALSE) -> DESMOBILIZAÇÃO | C25: =VLOOKUP(A25,[1]ORÇAMENTO!$A$23:$T$355,20,FALSE) -> 41470.04 | D25: =ROUND(C25/$C$22,4) -> 0.079 | AC25: =E25+G25+I25+K25+M25+O25+Q25+S25+U25+W25+Y25+AA25 -> 0 | AD25: =IF(AC25=C25,"OK","ERRO") -> ERRO | AE25: =C25-E25-G25-I25-K25-M25-O25-Q25-S25-U25-W25-Y25 -> 41470.04 | AF25: =F25+H25+J25+L25+N25+P25+R25+T25+V25+X25+Z25+AB25 -> 0
A26: 2. | B26: =VLOOKUP(A26,[1]ORÇAMENTO!$A$23:$T$355,9,FALSE) -> EXECUÇÃO DE SERVIÇOS DE ENGENHARIA DE PAVIMENTAÇÃO ASFÁLTICA | C26: =VLOOKUP(A26,[1]ORÇAMENTO!$A$23:$T$355,20,FALSE) -> 15773758 | D26: =ROUND(C26/$C$70,4) -> 0.2073
A27: 2.1 | B27: =VLOOKUP(A27,[1]ORÇAMENTO!$A$23:$T$355,9,FALSE) -> ADMINISTRAÇÃO LOCAL | C27: =VLOOKUP(A27,[1]ORÇAMENTO!$A$23:$T$355,20,FALSE) -> 574316.3 | D27: =ROUND(C27/$C$26,4) -> 0.0364 | AC27: =E27+G27+I27+K27+M27+O27+Q27+S27+U27+W27+Y27+AA27 -> 0 | AD27: =IF(AC27=C27,"OK","ERRO") -> ERRO | AE27: =C27-E27-G27-I27-K27-M27-O27-Q27-S27-U27-W27-Y27 -> 574316.3 | AF27: =F27+H27+J27+L27+N27+P27+R27+T27+V27+X27+Z27+AB27 -> 0
A28: 2.2 | B28: =VLOOKUP(A28,[1]ORÇAMENTO!$A$23:$T$355,9,FALSE) -> SERVIÇOS PRELIMINARES | C28: =VLOOKUP(A28,[1]ORÇAMENTO!$A$23:$T$355,20,FALSE) -> 450003.12 | D28: =ROUND(C28/$C$26,4) -> 0.0285 | AC28: =E28+G28+I28+K28+M28+O28+Q28+S28+U28+W28+Y28+AA28 -> 0 | AD28: =IF(AC28=C28,"OK","ERRO") -> ERRO | AE28: =C28-E28-G28-I28-K28-M28-O28-Q28-S28-U28-W28-Y28 -> 450003.12 | AF28: =F28+H28+J28+L28+N28+P28+R28+T28+V28+X28+Z28+AB28 -> 0
A29: 2.3 | B29: =VLOOKUP(A29,[1]ORÇAMENTO!$A$23:$T$355,9,FALSE) -> MOBILIZAÇÃO | C29: =VLOOKUP(A29,[1]ORÇAMENTO!$A$23:$T$355,20,FALSE) -> 383162.5 | D29: =ROUND(C29/$C$26,4) -> 0.0243 | AC29: =E29+G29+I29+K29+M29+O29+Q29+S29+U29+W29+Y29+AA29 -> 0 | AD29: =IF(AC29=C29,"OK","ERRO") -> ERRO | AE29: =C29-E29-G29-I29-K29-M29-O29-Q29-S29-U29-W29-Y29 -> 383162.5 | AF29: =F29+H29+J29+L29+N29+P29+R29+T29+V29+X29+Z29+AB29 -> 0
A30: 2.4 | B30: =VLOOKUP(A30,[1]ORÇAMENTO!$A$23:$T$355,9,FALSE) -> DESMOBILIZAÇÃO | C30: =VLOOKUP(A30,[1]ORÇAMENTO!$A$23:$T$355,20,FALSE) -> 383162.5 | D30: =ROUND(C30/$C$26,4) -> 0.0243 | AC30: =E30+G30+I30+K30+M30+O30+Q30+S30+U30+W30+Y30+AA30 -> 0 | AD30: =IF(AC30=C30,"OK","ERRO") -> ERRO | AE30: =C30-E30-G30-I30-K30-M30-O30-Q30-S30-U30-W30-Y30 -> 383162.5 | AF30: =F30+H30+J30+L30+N30+P30+R30+T30+V30+X30+Z30+AB30 -> 0
A31: 2.5 | B31: =VLOOKUP(A31,[1]ORÇAMENTO!$A$23:$T$355,9,FALSE) -> MOVIMENTAÇÃO DE TERRA | C31: =VLOOKUP(A31,[1]ORÇAMENTO!$A$23:$T$355,20,FALSE) -> 858063.88 | D31: =ROUND(C31/$C$26,4) -> 0.0544 | AC31: =E31+G31+I31+K31+M31+O31+Q31+S31+U31+W31+Y31+AA31 -> 0 | AD31: =IF(AC31=C31,"OK","ERRO") -> ERRO | AE31: =C31-E31-G31-I31-K31-M31-O31-Q31-S31-U31-W31-Y31 -> 858063.88 | AF31: =F31+H31+J31+L31+N31+P31+R31+T31+V31+X31+Z31+AB31 -> 0
A32: 2.6 | B32: =VLOOKUP(A32,[1]ORÇAMENTO!$A$23:$T$355,9,FALSE) -> PAVIMENTAÇÃO EM CBUQ (CONCRETO BETUMINOSO USINADO À QUENTE) | C32: =VLOOKUP(A32,[1]ORÇAMENTO!$A$23:$T$355,20,FALSE) -> 7575086.9 | D32: =ROUND(C32/$C$26,4) -> 0.4802 | AC32: =E32+G32+I32+K32+M32+O32+Q32+S32+U32+W32+Y32+AA32 -> 0 | AD32: =IF(AC32=C32,"OK","ERRO") -> ERRO | AE32: =C32-E32-G32-I32-K32-M32-O32-Q32-S32-U32-W32-Y32 -> 7575086.9 | AF32: =F32+H32+J32+L32+N32+P32+R32+T32+V32+X32+Z32+AB32 -> 0
A33: 2.7 | B33: =VLOOKUP(A33,[1]ORÇAMENTO!$A$23:$T$355,9,FALSE) -> PASSEIO/PROTEÇÃO DE GUIA | C33: =VLOOKUP(A33,[1]ORÇAMENTO!$A$23:$T$355,20,FALSE) -> 1968369.6 | D33: =ROUND(C33/$C$26,4) -> 0.1248 | AC33: =E33+G33+I33+K33+M33+O33+Q33+S33+U33+W33+Y33+AA33 -> 0 | AD33: =IF(AC33=C33,"OK","ERRO") -> ERRO | AE33: =C33-E33-G33-I33-K33-M33-O33-Q33-S33-U33-W33-Y33 -> 1968369.6 | AF33: =F33+H33+J33+L33+N33+P33+R33+T33+V33+X33+Z33+AB33 -> 0
A34: 2.8 | B34: =VLOOKUP(A34,[1]ORÇAMENTO!$A$23:$T$355,9,FALSE) -> DRENAGEM | C34: =VLOOKUP(A34,[1]ORÇAMENTO!$A$23:$T$355,20,FALSE) -> 2669943.4 | D34: =ROUND(C34/$C$26,4) -> 0.1693 | AC34: =E34+G34+I34+K34+M34+O34+Q34+S34+U34+W34+Y34+AA34 -> 0 | AD34: =IF(AC34=C34,"OK","ERRO") -> ERRO | AE34: =C34-E34-G34-I34-K34-M34-O34-Q34-S34-U34-W34-Y34 -> 2669943.4 | AF34: =F34+H34+J34+L34+N34+P34+R34+T34+V34+X34+Z34+AB34 -> 0
A35: 2.9 | B35: =VLOOKUP(A35,[1]ORÇAMENTO!$A$23:$T$355,9,FALSE) -> SINALIZAÇÃO VIÁRIA VERTICAL | C35: =VLOOKUP(A35,[1]ORÇAMENTO!$A$23:$T$355,20,FALSE) -> 278892.51 | D35: =ROUND(C35/$C$26,4) -> 0.0177 | AC35: =E35+G35+I35+K35+M35+O35+Q35+S35+U35+W35+Y35+AA35 -> 0 | AD35: =IF(AC35=C35,"OK","ERRO") -> ERRO | AE35: =C35-E35-G35-I35-K35-M35-O35-Q35-S35-U35-W35-Y35 -> 278892.51 | AF35: =F35+H35+J35+L35+N35+P35+R35+T35+V35+X35+Z35+AB35 -> 0
A36: 2.10 | B36: =VLOOKUP(A36,[1]ORÇAMENTO!$A$23:$T$355,9,FALSE) -> SINALIZAÇÃO VIÁRIA HORIZONTAL | C36: =VLOOKUP(A36,[1]ORÇAMENTO!$A$23:$T$355,20,FALSE) -> 304488.92 | D36: =ROUND(C36/$C$26,4) -> 0.0193 | AC36: =E36+G36+I36+K36+M36+O36+Q36+S36+U36+W36+Y36+AA36 -> 0 | AD36: =IF(AC36=C36,"OK","ERRO") -> ERRO | AE36: =C36-E36-G36-I36-K36-M36-O36-Q36-S36-U36-W36-Y36 -> 304488.92 | AF36: =F36+H36+J36+L36+N36+P36+R36+T36+V36+X36+Z36+AB36 -> 0
A37: 2.11 | B37: =VLOOKUP(A37,[1]ORÇAMENTO!$A$23:$T$355,9,FALSE) -> SERVIÇOS COMPLEMENTARES E SINALIZAÇÃO DE OBRA | C37: =VLOOKUP(A37,[1]ORÇAMENTO!$A$23:$T$355,20,FALSE) -> 328267.79 | D37: =ROUND(C37/$C$26,4) -> 0.0208 | AC37: =E37+G37+I37+K37+M37+O37+Q37+S37+U37+W37+Y37+AA37 -> 0 | AD37: =IF(AC37=C37,"OK","ERRO") -> ERRO | AE37: =C37-E37-G37-I37-K37-M37-O37-Q37-S37-U37-W37-Y37 -> 328267.79 | AF37: =F37+H37+J37+L37+N37+P37+R37+T37+V37+X37+Z37+AB37 -> 0
A38: 3. | B38: =VLOOKUP(A38,[1]ORÇAMENTO!$A$23:$T$355,9,FALSE) -> EXECUÇÃO DE SERVIÇOS DE ENGENHARIA PARA PAVIMENTAÇÃO DE VIA EM PEDRA GRANÍTICA | C38: =VLOOKUP(A38,[1]ORÇAMENTO!$A$23:$T$355,20,FALSE) -> 8610704.8 | D38: =ROUND(C38/$C$70,4) -> 0.1132
A39: 3.1 | B39: =VLOOKUP(A39,[1]ORÇAMENTO!$A$23:$T$355,9,FALSE) -> ADMINISTRAÇÃO LOCAL | C39: =VLOOKUP(A39,[1]ORÇAMENTO!$A$23:$T$355,20,FALSE) -> 532308.17 | D39: =ROUND(C39/$C$38,4) -> 0.0618 | AC39: =E39+G39+I39+K39+M39+O39+Q39+S39+U39+W39+Y39+AA39 -> 0 | AD39: =IF(AC39=C39,"OK","ERRO") -> ERRO | AE39: =C39-E39-G39-I39-K39-M39-O39-Q39-S39-U39-W39-Y39 -> 532308.17 | AF39: =F39+H39+J39+L39+N39+P39+R39+T39+V39+X39+Z39+AB39 -> 0
A40: 3.2 | B40: =VLOOKUP(A40,[1]ORÇAMENTO!$A$23:$T$355,9,FALSE) -> SERVIÇOS PRELIMINARES | C40: =VLOOKUP(A40,[1]ORÇAMENTO!$A$23:$T$355,20,FALSE) -> 448203.3 | D40: =ROUND(C40/$C$38,4) -> 0.0521 | AC40: =E40+G40+I40+K40+M40+O40+Q40+S40+U40+W40+Y40+AA40 -> 0 | AD40: =IF(AC40=C40,"OK","ERRO") -> ERRO | AE40: =C40-E40-G40-I40-K40-M40-O40-Q40-S40-U40-W40-Y40 -> 448203.3 | AF40: =F40+H40+J40+L40+N40+P40+R40+T40+V40+X40+Z40+AB40 -> 0
A41: 3.3 | B41: =VLOOKUP(A41,[1]ORÇAMENTO!$A$23:$T$355,9,FALSE) -> MOBILIZAÇÃO | C41: =VLOOKUP(A41,[1]ORÇAMENTO!$A$23:$T$355,20,FALSE) -> 7170 | D41: =ROUND(C41/$C$38,4) -> 0.0008 | AC41: =E41+G41+I41+K41+M41+O41+Q41+S41+U41+W41+Y41+AA41 -> 0 | AD41: =IF(AC41=C41,"OK","ERRO") -> ERRO | AE41: =C41-E41-G41-I41-K41-M41-O41-Q41-S41-U41-W41-Y41 -> 7170 | AF41: =F41+H41+J41+L41+N41+P41+R41+T41+V41+X41+Z41+AB41 -> 0
A42: 3.4 | B42: =VLOOKUP(A42,[1]ORÇAMENTO!$A$23:$T$355,9,FALSE) -> DESMOBILIZAÇÃO | C42: =VLOOKUP(A42,[1]ORÇAMENTO!$A$23:$T$355,20,FALSE) -> 7170 | D42: =ROUND(C42/$C$38,4) -> 0.0008 | AC42: =E42+G42+I42+K42+M42+O42+Q42+S42+U42+W42+Y42+AA42 -> 0 | AD42: =IF(AC42=C42,"OK","ERRO") -> ERRO | AE42: =C42-E42-G42-I42-K42-M42-O42-Q42-S42-U42-W42-Y42 -> 7170 | AF42: =F42+H42+J42+L42+N42+P42+R42+T42+V42+X42+Z42+AB42 -> 0
A43: 3.5 | B43: =VLOOKUP(A43,[1]ORÇAMENTO!$A$23:$T$355,9,FALSE) -> MOVIMENTAÇÃO DE TERRA | C43: =VLOOKUP(A43,[1]ORÇAMENTO!$A$23:$T$355,20,FALSE) -> 524792.43 | D43: =ROUND(C43/$C$38,4) -> 0.0609 | AC43: =E43+G43+I43+K43+M43+O43+Q43+S43+U43+W43+Y43+AA43 -> 0 | AD43: =IF(AC43=C43,"OK","ERRO") -> ERRO | AE43: =C43-E43-G43-I43-K43-M43-O43-Q43-S43-U43-W43-Y43 -> 524792.43 | AF43: =F43+H43+J43+L43+N43+P43+R43+T43+V43+X43+Z43+AB43 -> 0
A44: 3.6 | B44: =VLOOKUP(A44,[1]ORÇAMENTO!$A$23:$T$355,9,FALSE) -> PAVIMENTAÇÃO EM PEDRA GRANÍTICA | C44: =VLOOKUP(A44,[1]ORÇAMENTO!$A$23:$T$355,20,FALSE) -> 4878151.9 | D44: =ROUND(C44/$C$38,4) -> 0.5665 | AC44: =E44+G44+I44+K44+M44+O44+Q44+S44+U44+W44+Y44+AA44 -> 0 | AD44: =IF(AC44=C44,"OK","ERRO") -> ERRO | AE44: =C44-E44-G44-I44-K44-M44-O44-Q44-S44-U44-W44-Y44 -> 4878151.9 | AF44: =F44+H44+J44+L44+N44+P44+R44+T44+V44+X44+Z44+AB44 -> 0
A45: 3.7 | B45: =VLOOKUP(A45,[1]ORÇAMENTO!$A$23:$T$355,9,FALSE) -> PASSEIO/PROTEÇÃO DE GUIA | C45: =VLOOKUP(A45,[1]ORÇAMENTO!$A$23:$T$355,20,FALSE) -> 1204052.4 | D45: =ROUND(C45/$C$38,4) -> 0.1398 | AC45: =E45+G45+I45+K45+M45+O45+Q45+S45+U45+W45+Y45+AA45 -> 0 | AD45: =IF(AC45=C45,"OK","ERRO") -> ERRO | AE45: =C45-E45-G45-I45-K45-M45-O45-Q45-S45-U45-W45-Y45 -> 1204052.4 | AF45: =F45+H45+J45+L45+N45+P45+R45+T45+V45+X45+Z45+AB45 -> 0
A46: 3.8 | B46: =VLOOKUP(A46,[1]ORÇAMENTO!$A$23:$T$355,9,FALSE) -> DRENAGEM | C46: =VLOOKUP(A46,[1]ORÇAMENTO!$A$23:$T$355,20,FALSE) -> 630932.88 | D46: =ROUND(C46/$C$38,4) -> 0.0733 | AC46: =E46+G46+I46+K46+M46+O46+Q46+S46+U46+W46+Y46+AA46 -> 0 | AD46: =IF(AC46=C46,"OK","ERRO") -> ERRO | AE46: =C46-E46-G46-I46-K46-M46-O46-Q46-S46-U46-W46-Y46 -> 630932.88 | AF46: =F46+H46+J46+L46+N46+P46+R46+T46+V46+X46+Z46+AB46 -> 0
A47: 3.9 | B47: =VLOOKUP(A47,[1]ORÇAMENTO!$A$23:$T$355,9,FALSE) -> SINALIZAÇÃO VIÁRIA VERTICAL | C47: =VLOOKUP(A47,[1]ORÇAMENTO!$A$23:$T$355,20,FALSE) -> 147352.77 | D47: =ROUND(C47/$C$38,4) -> 0.0171 | AC47: =E47+G47+I47+K47+M47+O47+Q47+S47+U47+W47+Y47+AA47 -> 0 | AD47: =IF(AC47=C47,"OK","ERRO") -> ERRO | AE47: =C47-E47-G47-I47-K47-M47-O47-Q47-S47-U47-W47-Y47 -> 147352.77 | AF47: =F47+H47+J47+L47+N47+P47+R47+T47+V47+X47+Z47+AB47 -> 0
A48: 3.10 | B48: =VLOOKUP(A48,[1]ORÇAMENTO!$A$23:$T$355,9,FALSE) -> SERVIÇOS COMPLEMENTARES E SINALIZAÇÃO DE OBRA | C48: =VLOOKUP(A48,[1]ORÇAMENTO!$A$23:$T$355,20,FALSE) -> 230571.02 | D48: =ROUND(C48/$C$38,4) -> 0.0268 | AC48: =E48+G48+I48+K48+M48+O48+Q48+S48+U48+W48+Y48+AA48 -> 0 | AD48: =IF(AC48=C48,"OK","ERRO") -> ERRO | AE48: =C48-E48-G48-I48-K48-M48-O48-Q48-S48-U48-W48-Y48 -> 230571.02 | AF48: =F48+H48+J48+L48+N48+P48+R48+T48+V48+X48+Z48+AB48 -> 0
A49: 4. | B49: =VLOOKUP(A49,[1]ORÇAMENTO!$A$23:$T$355,9,FALSE) -> EXECUÇÃO DE SERVIÇOS DE ENGENHARIA PARA PAVIMENTAÇÃO DE VIA EM BLOCO DE CONCRETO INTERTRAVADO | C49: =VLOOKUP(A49,[1]ORÇAMENTO!$A$23:$T$355,20,FALSE) -> 14175182 | D49: =ROUND(C49/$C$70,4) -> 0.1863
A50: 4.1 | B50: =VLOOKUP(A50,[1]ORÇAMENTO!$A$23:$T$355,9,FALSE) -> ADMINISTRAÇÃO LOCAL | C50: =VLOOKUP(A50,[1]ORÇAMENTO!$A$23:$T$355,20,FALSE) -> 543639.8 | D50: =ROUND(C50/$C$49,4) -> 0.0384 | AC50: =E50+G50+I50+K50+M50+O50+Q50+S50+U50+W50+Y50+AA50 -> 0 | AD50: =IF(AC50=C50,"OK","ERRO") -> ERRO | AE50: =C50-E50-G50-I50-K50-M50-O50-Q50-S50-U50-W50-Y50 -> 543639.8 | AF50: =F50+H50+J50+L50+N50+P50+R50+T50+V50+X50+Z50+AB50 -> 0
A51: 4.2 | B51: =VLOOKUP(A51,[1]ORÇAMENTO!$A$23:$T$355,9,FALSE) -> SERVIÇOS PRELIMINARES | C51: =VLOOKUP(A51,[1]ORÇAMENTO!$A$23:$T$355,20,FALSE) -> 450412.17 | D51: =ROUND(C51/$C$49,4) -> 0.0318 | AC51: =E51+G51+I51+K51+M51+O51+Q51+S51+U51+W51+Y51+AA51 -> 0 | AD51: =IF(AC51=C51,"OK","ERRO") -> ERRO | AE51: =C51-E51-G51-I51-K51-M51-O51-Q51-S51-U51-W51-Y51 -> 450412.17 | AF51: =F51+H51+J51+L51+N51+P51+R51+T51+V51+X51+Z51+AB51 -> 0
A52: 4.3 | B52: =VLOOKUP(A52,[1]ORÇAMENTO!$A$23:$T$355,9,FALSE) -> MOBILIZAÇÃO | C52: =VLOOKUP(A52,[1]ORÇAMENTO!$A$23:$T$355,20,FALSE) -> 7170 | D52: =ROUND(C52/$C$49,4) -> 0.0005 | AC52: =E52+G52+I52+K52+M52+O52+Q52+S52+U52+W52+Y52+AA52 -> 0 | AD52: =IF(AC52=C52,"OK","ERRO") -> ERRO | AE52: =C52-E52-G52-I52-K52-M52-O52-Q52-S52-U52-W52-Y52 -> 7170 | AF52: =F52+H52+J52+L52+N52+P52+R52+T52+V52+X52+Z52+AB52 -> 0
A53: 4.4 | B53: =VLOOKUP(A53,[1]ORÇAMENTO!$A$23:$T$355,9,FALSE) -> DESMOBILIZAÇÃO | C53: =VLOOKUP(A53,[1]ORÇAMENTO!$A$23:$T$355,20,FALSE) -> 7170 | D53: =ROUND(C53/$C$49,4) -> 0.0005 | AC53: =E53+G53+I53+K53+M53+O53+Q53+S53+U53+W53+Y53+AA53 -> 0 | AD53: =IF(AC53=C53,"OK","ERRO") -> ERRO | AE53: =C53-E53-G53-I53-K53-M53-O53-Q53-S53-U53-W53-Y53 -> 7170 | AF53: =F53+H53+J53+L53+N53+P53+R53+T53+V53+X53+Z53+AB53 -> 0
A54: 4.5 | B54: =VLOOKUP(A54,[1]ORÇAMENTO!$A$23:$T$355,9,FALSE) -> MOVIMENTAÇÃO DE TERRA | C54: =VLOOKUP(A54,[1]ORÇAMENTO!$A$23:$T$355,20,FALSE) -> 925260.59 | D54: =ROUND(C54/$C$49,4) -> 0.0653 | AC54: =E54+G54+I54+K54+M54+O54+Q54+S54+U54+W54+Y54+AA54 -> 0 | AD54: =IF(AC54=C54,"OK","ERRO") -> ERRO | AE54: =C54-E54-G54-I54-K54-M54-O54-Q54-S54-U54-W54-Y54 -> 925260.59 | AF54: =F54+H54+J54+L54+N54+P54+R54+T54+V54+X54+Z54+AB54 -> 0
A55: 4.6 | B55: =VLOOKUP(A55,[1]ORÇAMENTO!$A$23:$T$355,9,FALSE) -> PAVIMENTAÇÃO EM INTERTRAVADO | C55: =VLOOKUP(A55,[1]ORÇAMENTO!$A$23:$T$355,20,FALSE) -> 8375384.8 | D55: =ROUND(C55/$C$49,4) -> 0.5908 | AC55: =E55+G55+I55+K55+M55+O55+Q55+S55+U55+W55+Y55+AA55 -> 0 | AD55: =IF(AC55=C55,"OK","ERRO") -> ERRO | AE55: =C55-E55-G55-I55-K55-M55-O55-Q55-S55-U55-W55-Y55 -> 8375384.8 | AF55: =F55+H55+J55+L55+N55+P55+R55+T55+V55+X55+Z55+AB55 -> 0
A56: 4.7 | B56: =VLOOKUP(A56,[1]ORÇAMENTO!$A$23:$T$355,9,FALSE) -> PASSEIO/PROTEÇÃO DE GUIA | C56: =VLOOKUP(A56,[1]ORÇAMENTO!$A$23:$T$355,20,FALSE) -> 2122652.4 | D56: =ROUND(C56/$C$49,4) -> 0.1497 | AC56: =E56+G56+I56+K56+M56+O56+Q56+S56+U56+W56+Y56+AA56 -> 0 | AD56: =IF(AC56=C56,"OK","ERRO") -> ERRO | AE56: =C56-E56-G56-I56-K56-M56-O56-Q56-S56-U56-W56-Y56 -> 2122652.4 | AF56: =F56+H56+J56+L56+N56+P56+R56+T56+V56+X56+Z56+AB56 -> 0
A57: 4.8 | B57: =VLOOKUP(A57,[1]ORÇAMENTO!$A$23:$T$355,9,FALSE) -> DRENAGEM | C57: =VLOOKUP(A57,[1]ORÇAMENTO!$A$23:$T$355,20,FALSE) -> 1118268.4 | D57: =ROUND(C57/$C$49,4) -> 0.0789 | AC57: =E57+G57+I57+K57+M57+O57+Q57+S57+U57+W57+Y57+AA57 -> 0 | AD57: =IF(AC57=C57,"OK","ERRO") -> ERRO | AE57: =C57-E57-G57-I57-K57-M57-O57-Q57-S57-U57-W57-Y57 -> 1118268.4 | AF57: =F57+H57+J57+L57+N57+P57+R57+T57+V57+X57+Z57+AB57 -> 0
A58: 4.9 | B58: =VLOOKUP(A58,[1]ORÇAMENTO!$A$23:$T$355,9,FALSE) -> SINALIZAÇÃO VIÁRIA VERTICAL | C58: =VLOOKUP(A58,[1]ORÇAMENTO!$A$23:$T$355,20,FALSE) -> 284163.52 | D58: =ROUND(C58/$C$49,4) -> 0.02 | AC58: =E58+G58+I58+K58+M58+O58+Q58+S58+U58+W58+Y58+AA58 -> 0 | AD58: =IF(AC58=C58,"OK","ERRO") -> ERRO | AE58: =C58-E58-G58-I58-K58-M58-O58-Q58-S58-U58-W58-Y58 -> 284163.52 | AF58: =F58+H58+J58+L58+N58+P58+R58+T58+V58+X58+Z58+AB58 -> 0
A59: 4.10 | B59: =VLOOKUP(A59,[1]ORÇAMENTO!$A$23:$T$355,9,FALSE) -> SERVIÇOS COMPLEMENTARES E SINALIZAÇÃO DE OBRA | C59: =VLOOKUP(A59,[1]ORÇAMENTO!$A$23:$T$355,20,FALSE) -> 341060.16 | D59: =ROUND(C59/$C$49,4) -> 0.0241 | AC59: =E59+G59+I59+K59+M59+O59+Q59+S59+U59+W59+Y59+AA59 -> 0 | AD59: =IF(AC59=C59,"OK","ERRO") -> ERRO | AE59: =C59-E59-G59-I59-K59-M59-O59-Q59-S59-U59-W59-Y59 -> 341060.16 | AF59: =F59+H59+J59+L59+N59+P59+R59+T59+V59+X59+Z59+AB59 -> 0
A60: 5. | B60: =VLOOKUP(A60,[1]ORÇAMENTO!$A$23:$T$355,9,FALSE) -> EXECUÇÃO DE SERVIÇOS DE ENGENHARIA PARA CAPEAMENTO E/OU RECAPEAMENTO DE VIAS EM CONCRETO BETUMINOSO USINADO À QUENTE (CBUQ) | C60: =VLOOKUP(A60,[1]ORÇAMENTO!$A$23:$T$355,20,FALSE) -> 37004855 | D60: =ROUND(C60/$C$70,4) -> 0.4863
A61: 5.1 | B61: =VLOOKUP(A61,[1]ORÇAMENTO!$A$23:$T$355,9,FALSE) -> ADMINISTRAÇÃO LOCAL | C61: =VLOOKUP(A61,[1]ORÇAMENTO!$A$23:$T$355,20,FALSE) -> 571409.16 | D61: =ROUND(C61/$C$60,4) -> 0.0154 | AC61: =E61+G61+I61+K61+M61+O61+Q61+S61+U61+W61+Y61+AA61 -> 0 | AD61: =IF(AC61=C61,"OK","ERRO") -> ERRO | AE61: =C61-E61-G61-I61-K61-M61-O61-Q61-S61-U61-W61-Y61 -> 571409.16 | AF61: =F61+H61+J61+L61+N61+P61+R61+T61+V61+X61+Z61+AB61 -> 0
A62: 5.2 | B62: =VLOOKUP(A62,[1]ORÇAMENTO!$A$23:$T$355,9,FALSE) -> SERVIÇOS PRELIMINARES | C62: =VLOOKUP(A62,[1]ORÇAMENTO!$A$23:$T$355,20,FALSE) -> 445421.76 | D62: =ROUND(C62/$C$60,4) -> 0.012 | AC62: =E62+G62+I62+K62+M62+O62+Q62+S62+U62+W62+Y62+AA62 -> 0 | AD62: =IF(AC62=C62,"OK","ERRO") -> ERRO | AE62: =C62-E62-G62-I62-K62-M62-O62-Q62-S62-U62-W62-Y62 -> 445421.76 | AF62: =F62+H62+J62+L62+N62+P62+R62+T62+V62+X62+Z62+AB62 -> 0
A63: 5.3 | B63: =VLOOKUP(A63,[1]ORÇAMENTO!$A$23:$T$355,9,FALSE) -> MOBILIZAÇÃO | C63: =VLOOKUP(A63,[1]ORÇAMENTO!$A$23:$T$355,20,FALSE) -> 383162.5 | D63: =ROUND(C63/$C$60,4) -> 0.0104 | AC63: =E63+G63+I63+K63+M63+O63+Q63+S63+U63+W63+Y63+AA63 -> 0 | AD63: =IF(AC63=C63,"OK","ERRO") -> ERRO | AE63: =C63-E63-G63-I63-K63-M63-O63-Q63-S63-U63-W63-Y63 -> 383162.5 | AF63: =F63+H63+J63+L63+N63+P63+R63+T63+V63+X63+Z63+AB63 -> 0
A64: 5.4 | B64: =VLOOKUP(A64,[1]ORÇAMENTO!$A$23:$T$355,9,FALSE) -> DESMOBILIZAÇÃO | C64: =VLOOKUP(A64,[1]ORÇAMENTO!$A$23:$T$355,20,FALSE) -> 383162.5 | D64: =ROUND(C64/$C$60,4) -> 0.0104 | AC64: =E64+G64+I64+K64+M64+O64+Q64+S64+U64+W64+Y64+AA64 -> 0 | AD64: =IF(AC64=C64,"OK","ERRO") -> ERRO | AE64: =C64-E64-G64-I64-K64-M64-O64-Q64-S64-U64-W64-Y64 -> 383162.5 | AF64: =F64+H64+J64+L64+N64+P64+R64+T64+V64+X64+Z64+AB64 -> 0
A65: 5.5 | B65: =VLOOKUP(A65,[1]ORÇAMENTO!$A$23:$T$355,9,FALSE) -> PAVIMENTAÇÃO EM CBUQ (CONCRETO BETUMINOSO USINADO À QUENTE) | C65: =VLOOKUP(A65,[1]ORÇAMENTO!$A$23:$T$355,20,FALSE) -> 30265375 | D65: =ROUND(C65/$C$60,4) -> 0.8179 | AC65: =E65+G65+I65+K65+M65+O65+Q65+S65+U65+W65+Y65+AA65 -> 0 | AD65: =IF(AC65=C65,"OK","ERRO") -> ERRO | AE65: =C65-E65-G65-I65-K65-M65-O65-Q65-S65-U65-W65-Y65 -> 30265375 | AF65: =F65+H65+J65+L65+N65+P65+R65+T65+V65+X65+Z65+AB65 -> 0
A66: 5.6 | B66: =VLOOKUP(A66,[1]ORÇAMENTO!$A$23:$T$355,9,FALSE) -> SINALIZAÇÃO VIÁRIA VERTICAL | C66: =VLOOKUP(A66,[1]ORÇAMENTO!$A$23:$T$355,20,FALSE) -> 1358709.5 | D66: =ROUND(C66/$C$60,4) -> 0.0367 | AC66: =E66+G66+I66+K66+M66+O66+Q66+S66+U66+W66+Y66+AA66 -> 0 | AD66: =IF(AC66=C66,"OK","ERRO") -> ERRO | AE66: =C66-E66-G66-I66-K66-M66-O66-Q66-S66-U66-W66-Y66 -> 1358709.5 | AF66: =F66+H66+J66+L66+N66+P66+R66+T66+V66+X66+Z66+AB66 -> 0
A67: 5.7 | B67: =VLOOKUP(A67,[1]ORÇAMENTO!$A$23:$T$355,9,FALSE) -> SINALIZAÇÃO VIÁRIA HORIZONTAL | C67: =VLOOKUP(A67,[1]ORÇAMENTO!$A$23:$T$355,20,FALSE) -> 2120746.8 | D67: =ROUND(C67/$C$60,4) -> 0.0573 | AC67: =E67+G67+I67+K67+M67+O67+Q67+S67+U67+W67+Y67+AA67 -> 0 | AD67: =IF(AC67=C67,"OK","ERRO") -> ERRO | AE67: =C67-E67-G67-I67-K67-M67-O67-Q67-S67-U67-W67-Y67 -> 2120746.8 | AF67: =F67+H67+J67+L67+N67+P67+R67+T67+V67+X67+Z67+AB67 -> 0
A68: 5.8 | B68: =VLOOKUP(A68,[1]ORÇAMENTO!$A$23:$T$355,9,FALSE) -> SERVIÇOS COMPLEMENTARES E SINALIZAÇÃO DE OBRA | C68: =VLOOKUP(A68,[1]ORÇAMENTO!$A$23:$T$355,20,FALSE) -> 1476868 | D68: =ROUND(C68/$C$60,4) -> 0.0399 | AC68: =E68+G68+I68+K68+M68+O68+Q68+S68+U68+W68+Y68+AA68 -> 0 | AD68: =IF(AC68=C68,"OK","ERRO") -> ERRO | AE68: =C68-E68-G68-I68-K68-M68-O68-Q68-S68-U68-W68-Y68 -> 1476868 | AF68: =F68+H68+J68+L68+N68+P68+R68+T68+V68+X68+Z68+AB68 -> 0
A69: TOTAL GERAL DO MÊS | E69: =SUM(E22:E68) -> 0 | F69: =E69/$C$70 -> 0 | G69: =SUM(G22:G68) -> 0 | H69: =G69/$C$70 -> 0 | I69: =SUM(I22:I68) -> 0 | J69: =I69/$C$70 -> 0 | K69: =SUM(K22:K68) -> 0 | L69: =K69/$C$70 -> 0 | M69: =SUM(M22:M68) -> 0 | N69: =M69/$C$70 -> 0 | O69: =SUM(O22:O68) -> 0 | P69: =O69/$C$70 -> 0 | Q69: =SUM(Q22:Q68) -> 0 | R69: =Q69/$C$70 -> 0 | S69: =SUM(S22:S68) -> 0 | T69: =S69/$C$70 -> 0 | U69: =SUM(U22:U68) -> 0 | V69: =U69/$C$70 -> 0 | W69: =SUM(W22:W68) -> 0 | X69: =W69/$C$70 -> 0 | Y69: =SUM(Y22:Y68) -> 0 | Z69: =Y69/$C$70 -> 0 | AA69: =SUM(AA22:AA68) -> 0 | AB69: =AA69/$C$70 -> 0 | AF69: =F69+H69+J69+L69+N69+P69+R69+T69+V69+X69+Z69+AB69 -> 0
A70: TOTAL GERAL ACUMULADO | C70: =SUM(C60,C49,C38,C26,C22) -> 76089601 | D70: =SUM(D60,D49,D38,D26,D22) -> 1 | E70: =E69 -> 0 | F70: =E70/$C$70 -> 0 | G70: =E70+G69 -> 0 | H70: =G70/$C$70 -> 0 | I70: =G70+I69 -> 0 | J70: =I70/$C$70 -> 0 | K70: =I70+K69 -> 0 | L70: =K70/$C$70 -> 0 | M70: =K70+M69 -> 0 | N70: =M70/$C$70 -> 0 | O70: =M70+O69 -> 0 | P70: =O70/$C$70 -> 0 | Q70: =O70+Q69 -> 0 | R70: =Q70/$C$70 -> 0 | S70: =Q70+S69 -> 0 | T70: =S70/$C$70 -> 0 | U70: =S70+U69 -> 0 | V70: =U70/$C$70 -> 0 | W70: =U70+W69 -> 0 | X70: =W70/$C$70 -> 0 | Y70: =W70+Y69 -> 0 | Z70: =Y70/$C$70 -> 0 | AA70: =Y70+AA69 -> 0 | AB70: =AA70/$C$70 -> 0 | AC70: =AA70 -> 0 | AD70: =IF(AC70=C70,"OK","ERRO") -> ERRO
A74: Informações Gerais
A75: Responsável Técnico | C75: Data:
A76: Nome: | C76: Localidade: | D76: =[1]DADOS!$C$5 -> DIVERSOS MUNICÍPIOS
A77: Título:
A78: CREA/CAU:
E80: PERCENTUAIS DE DESEMBOLSO DE ADM LOCAL PROPORCIONAIS A EVOLUÇÃO DA OBRA - ACÓRDÃO 2622/2013
E81: =ROUND(SUM(E28:E37)/($C$26-$C$27),4) -> 0 | G81: =ROUND(SUM(G28:G37)/($C$26-$C$27),4) -> 0 | I81: =ROUND(SUM(I28:I37)/($C$26-$C$27),4) -> 0 | K81: =ROUND(SUM(K28:K37)/($C$26-$C$27),4) -> 0 | M81: =ROUND(SUM(M28:M37)/($C$26-$C$27),4) -> 0 | O81: =ROUND(SUM(O28:O37)/($C$26-$C$27),4) -> 0 | Q81: =ROUND(SUM(Q28:Q37)/($C$26-$C$27),4) -> 0 | S81: =ROUND(SUM(S28:S37)/($C$26-$C$27),4) -> 0 | U81: =ROUND(SUM(U28:U37)/($C$26-$C$27),4) -> 0 | W81: =ROUND(SUM(W28:W37)/($C$26-$C$27),4) -> 0 | Y81: =ROUND(SUM(Y28:Y37)/($C$26-$C$27),4) -> 0 | AA81: =ROUND(SUM(AA28:AA37)/($C$26-$C$27),4) -> 0
C82: =[1]RESUMO!D63 -> 76089601
C83: =C70=C82 -> TRUE
D84: PAV. ASFÁLTICA | F84: =SUM($C$28:$C$37) -> 15199441 | H84: =SUM($C$28:$C$37) -> 15199441 | J84: =SUM($C$28:$C$37) -> 15199441 | L84: =SUM($C$28:$C$37) -> 15199441 | N84: =SUM($C$28:$C$37) -> 15199441 | P84: =SUM($C$28:$C$37) -> 15199441 | R84: =SUM($C$28:$C$37) -> 15199441 | T84: =SUM($C$28:$C$37) -> 15199441 | V84: =SUM($C$28:$C$37) -> 15199441 | X84: =SUM($C$28:$C$37) -> 15199441 | Z84: =SUM($C$28:$C$37) -> 15199441 | AB84: =SUM($C$28:$C$37) -> 15199441
F85: =SUM(E28:E37) -> 0 | H85: =SUM(G28:G37) -> 0 | J85: =SUM(I28:I37) -> 0 | L85: =SUM(K28:K37) -> 0 | N85: =SUM(M28:M37) -> 0 | P85: =SUM(O28:O37) -> 0 | R85: =SUM(Q28:Q37) -> 0 | T85: =SUM(S28:S37) -> 0 | V85: =SUM(U28:U37) -> 0 | X85: =SUM(W28:W37) -> 0 | Z85: =SUM(Y28:Y37) -> 0 | AB85: =SUM(AA28:AA37) -> 0
D87: PAV. PEDRA GRANÍTICA | F87: =SUM($C$40:$C$48) -> 8078396.7 | H87: =SUM($C$40:$C$48) -> 8078396.7 | J87: =SUM($C$40:$C$48) -> 8078396.7 | L87: =SUM($C$40:$C$48) -> 8078396.7 | N87: =SUM($C$40:$C$48) -> 8078396.7 | P87: =SUM($C$40:$C$48) -> 8078396.7 | R87: =SUM($C$40:$C$48) -> 8078396.7 | T87: =SUM($C$40:$C$48) -> 8078396.7 | V87: =SUM($C$40:$C$48) -> 8078396.7 | X87: =SUM($C$40:$C$48) -> 8078396.7 | Z87: =SUM($C$40:$C$48) -> 8078396.7 | AB87: =SUM($C$40:$C$48) -> 8078396.7
F88: =SUM(E40:E48) -> 0 | H88: =SUM(G40:G48) -> 0 | J88: =SUM(I40:I48) -> 0 | L88: =SUM(K40:K48) -> 0 | N88: =SUM(M40:M48) -> 0 | P88: =SUM(O40:O48) -> 0 | R88: =SUM(Q40:Q48) -> 0 | T88: =SUM(S40:S48) -> 0 | V88: =SUM(U40:U48) -> 0 | X88: =SUM(W40:W48) -> 0 | Z88: =SUM(Y40:Y48) -> 0 | AB88: =SUM(AA40:AA48) -> 0
D90: PAV. INTERTRAVADO | F90: =SUM($C$51:$C$59) -> 13631542 | H90: =SUM($C$51:$C$59) -> 13631542 | J90: =SUM($C$51:$C$59) -> 13631542 | L90: =SUM($C$51:$C$59) -> 13631542 | N90: =SUM($C$51:$C$59) -> 13631542 | P90: =SUM($C$51:$C$59) -> 13631542 | R90: =SUM($C$51:$C$59) -> 13631542 | T90: =SUM($C$51:$C$59) -> 13631542 | V90: =SUM($C$51:$C$59) -> 13631542 | X90: =SUM($C$51:$C$59) -> 13631542 | Z90: =SUM($C$51:$C$59) -> 13631542 | AB90: =SUM($C$51:$C$59) -> 13631542
F91: =SUM(E51:E59) -> 0 | H91: =SUM(G51:G59) -> 0 | J91: =SUM(I51:I59) -> 0 | L91: =SUM(K51:K59) -> 0 | N91: =SUM(M51:M59) -> 0 | P91: =SUM(O51:O59) -> 0 | R91: =SUM(Q51:Q59) -> 0 | T91: =SUM(S51:S59) -> 0 | V91: =SUM(U51:U59) -> 0 | X91: =SUM(W51:W59) -> 0 | Z91: =SUM(Y51:Y59) -> 0 | AB91: =SUM(AA51:AA59) -> 0
D93: CAP. E RECAP. | F93: =SUM($C$62:$C$68) -> 36433446 | H93: =SUM($C$62:$C$68) -> 36433446 | J93: =SUM($C$62:$C$68) -> 36433446 | L93: =SUM($C$62:$C$68) -> 36433446 | N93: =SUM($C$62:$C$68) -> 36433446 | P93: =SUM($C$62:$C$68) -> 36433446 | R93: =SUM($C$62:$C$68) -> 36433446 | T93: =SUM($C$62:$C$68) -> 36433446 | V93: =SUM($C$62:$C$68) -> 36433446 | X93: =SUM($C$62:$C$68) -> 36433446 | Z93: =SUM($C$62:$C$68) -> 36433446 | AB93: =SUM($C$62:$C$68) -> 36433446
F94: =SUM(E62:E68) -> 0 | H94: =SUM(G62:G68) -> 0 | J94: =SUM(I62:I68) -> 0 | L94: =SUM(K62:K68) -> 0 | N94: =SUM(M62:M68) -> 0 | P94: =SUM(O62:O68) -> 0 | R94: =SUM(Q62:Q68) -> 0 | T94: =SUM(S62:S68) -> 0 | V94: =SUM(U62:U68) -> 0 | X94: =SUM(W62:W68) -> 0 | Z94: =SUM(Y62:Y68) -> 0 | AB94: =SUM(AA62:AA68) -> 0
