Workbook
Name \C: #REF!
Name \D: #REF!
Name \G: #REF!
Name \I: #REF!
Name \l: #REF!
Name \M: #REF!
Name \P: #REF!
Name \q: #REF!
Name \R: #REF!
Name \s: #REF!
Name \t: #REF!
Name \Y: #REF!
Name _: #REF!
Name ___\C: #REF!
Name ___\D: #REF!
Name ___\G: #REF!
Name ___\I: #REF!
Name ___\l: #REF!
Name ___\M: #REF!
Name ___\P: #REF!
Name ___\q: #REF!
Name ___\R: #REF!
Name ___\s: #REF!
Name ___\t: #REF!
Name ___\Y: #REF!
Name _____________________________________Ext2: #REF!
Name _________________________________CC709: #REF!
Name ________________________________Ext2: #REF!
Name ______________________________Ext2: #REF!
Name _____________________________PL1: #REF!
Name ____________________________CC709: #REF!
Name ____________________________PL1: #REF!
Name ___________________________PL1: #REF!
Name __________________________PL1: #REF!
Name _________________________PL1: #REF!
Name ________________________PL1: #REF!
Name _______________________PL1: #REF!
Name ______________________PL1: #REF!
Name ______________________r: #REF!
Name _____________________Ext2: #REF!
Name _____________________PL1: #REF!
Name _____________________r: #REF!
Name ____________________Ext2: #REF!
Name ____________________PL1: #REF!
Name ____________________r: #REF!
Name ___________________CC709: #REF!
Name ___________________Ext2: #REF!
Name ___________________KM406407: #REF!
Name ___________________OUT98: #REF!
Name ___________________PL1: #REF!
Name ___________________r: #REF!
Name __________________Ext2: #REF!
Name __________________KM406407: #REF!
Name __________________OUT98: #REF!
Name __________________PL1: #REF!
Name __________________r: #REF!
Name _________________Ext2: #REF!
Name _________________KM406407: #REF!
Name _________________OUT98: #REF!
Name _________________PL1: #REF!

Sheet Resumo do Orçamento
A2: PLANILHA RESUMO DE ORÇAMENTO SEM DESONERAÇÃO
A3: Obra: | B3: CONTRATAÇÃO DE EMPRESA ESPECIALIZADA EM ENGENHARIA PARA EXECUÇÃO DE SERVIÇOS DE REFORMA E AMPLIAÇÃO DA INFRAESTRUTURA URBANA E PAISAGÍSTICA DESTINADA À IMPLANTAÇÃO DE PARQUE LINEAR INTEGRADO AO PARQUE ESTADUAL HORTO DE DOIS IRMÃOS, LOCALIZADO NO MUNICÍPIO DO RECIFE, ESTADO DE PERNAMBUCO | C3: Responsável técnico: | D3: JOSÉ DYEGO RAMOS
A4: Local: | B4: PRAÇA FARIAS NEVES, S/N - DOIS IRMÃOS, RECIFE - PE, 52171-011 | C4: BDI DE SERVIÇO: | D4: 0.2303
A5: Data base: | B5: SINAPI - 12/25 E COMPOSIÇÕES PRÓPRIAS | C5: MERO FORNECIMENTO E MERO FORNECIMENTO COM INSTALAÇÃO | D5: 15,28% E 19,62%
A6: Prazo de execução: | B6: 06 MESES | C6: ENCARGOS SOCIAIS | D6: 113,84% (HORA); 70,11% (MÊS)
C7: TOTAL COM BDI | D7: 9117225.2
C8: BDI | D8: 1667763.8
C9: TOTAL SEM BDI | D9: 7449461.4
A10: Item | B10: Descrição | C10: Total | D10: Peso (%)
A11: 1 | B11: ADMINISTRAÇÃO LOCAL | C11: 593385.4 | D11: =C11 / $D$7 -> 0.065083991
A12: 2 | B12: INSTALAÇÕES PROVISÓRIAS | C12: 348177.87 | D12: =C12 / $D$7 -> 0.038189017
A13: 2.1 | B13: CANTEIRO | C13: 325718.63 | D13: =C13 / $D$7 -> 0.035725632
A14: 2.2 | B14: MOBILIZAÇÃO E DESMOBILIZAÇÃO | C14: 22459.24 | D14: =C14 / $D$7 -> 0.0024633855
A15: 3 | B15: DEMOLIÇÕES E REMOÇÕES | C15: 26153.96 | D15: =C15 / $D$7 -> 0.0028686316
A16: 4 | B16: QUIOSQUES (3 UNIDADES) | C16: 1067372 | D16: =C16 / $D$7 -> 0.11707202
A17: 4.1 | B17: INFRAESTRUTURA | C17: 86780.95 | D17: =C17 / $D$7 -> 0.0095183511
A18: 4.2 | B18: SUPERESTRUTURA | C18: 45930.74 | D18: =C18 / $D$7 -> 0.0050377981
A19: 4.3 | B19: PERGOLADO MADEIRA | C19: 636847.95 | D19: =C19 / $D$7 -> 0.069851072
A20: 4.4 | B20: ALVENARIAS, VEDAÇÕES E DIVISÓRIAS | C20: 39328.87 | D20: =C20 / $D$7 -> 0.0043136886
A21: 4.5 | B21: COBERTURA | C21: 46442.51 | D21: =C21 / $D$7 -> 0.0050939303
A22: 4.6 | B22: IMPERMEABILIZAÇÃO | C22: 13026.36 | D22: =C22 / $D$7 -> 0.0014287637
A23: 4.7 | B23: PISOS | C23: 14894.92 | D23: =C23 / $D$7 -> 0.001633712
A24: 4.8 | B24: REVESTIMENTOS | C24: 7771.57 | D24: =C24 / $D$7 -> 0.00085240518
A25: 4.9 | B25: PINTURA | C25: 12807.22 | D25: =C25 / $D$7 -> 0.0014047278
A26: 4.10 | B26: FORRO E ACABAMENTOS TETO | C26: 10729.33 | D26: =C26 / $D$7 -> 0.0011768197
A27: 4.11 | B27: ESQUADRIAS | C27: 43895.87 | D27: =C27 / $D$7 -> 0.0048146085
A28: 4.12 | B28: LOUÇAS E METAIS | C28: 20379.19 | D28: =C28 / $D$7 -> 0.0022352404
... A31: 4.15 | B31: INSTALAÇÕES HIDROSANITÁRIAS | C31: 10571.19 | D31: =C31 / $D$7 -> 0.0011594745
A32: 5 | B32: BILHETERIA | C32: 525283 | D32: =C32 / $D$7 -> 0.05761435
A33: 5.1 | B33: INFRAESTRUTURA | C33: 67584.33 | D33: =C33 / $D$7 -> 0.0074128179
A34: 5.2 | B34: SUPERESTRUTURA | C34: 33820.56 | D34: =C34 / $D$7 -> 0.0037095234
A35: 5.3 | B35: PERGOLADO DE MADEIRA | C35: 126733.51 | D35: =C35 / $D$7 -> 0.013900448
A36: 5.4 | B36: ALVENARIAS, VEDAÇÕES E DIVISÓRIAS | C36: 23861.3 | D36: =C36 / $D$7 -> 0.0026171669
A37: 5.5 | B37: COBERTURA | C37: 16225.94 | D37: =C37 / $D$7 -> 0.0017797016
A38: 5.6 | B38: IMPERMEABILIZAÇÃO | C38: 5032.86 | D38: =C38 / $D$7 -> 0.00055201664
A39: 5.7 | B39: PISOS | C39: 14051.41 | D39: =C39 / $D$7 -> 0.0015411937
A40: 5.8 | B40: REVESTIMENTOS | C40: 6632 | D40: =C40 / $D$7 -> 0.0007274143
A41: 5.9 | B41: PINTURA | C41: 3578.59 | D41: =C41 / $D$7 -> 0.00039250868
A42: 5.10 | B42: FORRO E ACABAMENTOS TETO | C42: 10975.63 | D42: =C42 / $D$7 -> 0.0012038345
A43: 5.11 | B43: ESQUADRIAS | C43: 121299.04 | D43: =C43 / $D$7 -> 0.013304381
...

Sheet Orçamento Sintético
A2: PLANILHA ORÇAMENTÁRIA SINTÉTICA SEM DESONERAÇÃO - MODELO LICITANTE
A3: ='Resumo do Orçamento'!A3 -> Obra: | B3: ='Resumo do Orçamento'!$B$3 -> CONTRATAÇÃO DE EMPRESA ESPECIALIZADA EM ENGENHARIA PARA EXECUÇÃO DE SERVIÇOS DE REFORMA E AMPLIAÇÃO DA INFRAESTRUTURA URBANA E PAISAGÍSTICA DESTINADA À IMPLANTAÇÃO DE PARQUE LINEAR INTEGRADO AO PARQUE ESTADUAL HORTO DE DOIS IRMÃOS, LOCALIZADO NO MUNICÍPIO DO RECIFE, ESTADO DE PERNAMBUCO | J3: ='Resumo do Orçamento'!C3 -> Responsável técnico:
A4: ='Resumo do Orçamento'!A4 -> Local: | B4: ='Resumo do Orçamento'!$B$4 -> PRAÇA FARIAS NEVES, S/N - DOIS IRMÃOS, RECIFE - PE, 52171-011 | J4: ='Resumo do Orçamento'!C4 -> BDI DE SERVIÇO:
A5: ='Resumo do Orçamento'!A5 -> Data base: | J5: ='Resumo do Orçamento'!C5 -> MERO FORNECIMENTO E MERO FORNECIMENTO COM INSTALAÇÃO
A6: ='Resumo do Orçamento'!A6 -> Prazo de execução: | J6: ='Resumo do Orçamento'!C6 -> ENCARGOS SOCIAIS
G7: Valor Final do Orçamento COM BDI | L7: =IF(K7='Resumo do Orçamento'!D7,"IGUAIS","VALOR DIVERGE DAS DEMAIS PLANILHAS") -> VALOR DIVERGE DAS DEMAIS PLANILHAS
G8: Valor do BDI
G9: Valor Final do Orçamento SEM BDI
A10: Item | B10: Código | C10: Banco | D10: Descrição | E10: Und | F10: Quant. | G10: Valor Unit | H10: BDI | I10: Valor Unit com BDI | J10: Total | K10: Peso (%)
A11: 1 | D11: ADMINISTRAÇÃO LOCAL | F11: 1
A12: 1.1 | B12: 21671 | C12: Próprio | D12: ADMINISTRAÇÃO LOCAL - PARQUE DOIS IRMÃOS. | E12: UN | F12: 1
A13: 2 | D13: INSTALAÇÕES PROVISÓRIAS | F13: 1
A14: 2.1 | D14: CANTEIRO | F14: 1
A15: 2.1.1 | B15: 98459 | C15: SINAPI | D15: TAPUME COM TELHA METÁLICA. AF_03/2024 | E15: m² | F15: 757.3
A16: 2.1.2 | B16: 103689 | C16: SINAPI | D16: FORNECIMENTO E INSTALAÇÃO DE PLACA DE OBRA COM CHAPA GALVANIZADA E ESTRUTURA DE MADEIRA. AF_03/2022_PS | E16: m² | F16: 20
A17: 2.1.3 | B17: 4981 | C17: Próprio | D17: ADESIVO PARA APLICAÇÃO EM TAPUME DE TELHA METÁLICA DE CONSTRUÇÃO | E17: m² | F17: 18.03
A18: 2.1.4 | B18: 344 | C18: Próprio | D18: LIGACAO PROVISORIA DE AGUA -PARA MEDICAO DE AGUA - ENTRADA PRINCIPAL, EM PVC SOLDÁVEL DN 25 (¾") FORNECIMENTO E INSTALAÇÃO (INCLUSIVE HIDRÔMETRO) | E18: UN | F18: 1
A19: 2.1.5 | B19: 101512 | C19: SINAPI | D19: ENTRADA DE ENERGIA ELÉTRICA, AÉREA, TRIFÁSICA, COM CAIXA DE EMBUTIR, CABO DE 35 MM2 E DISJUNTOR DIN 50A (NÃO INCLUSO O POSTE DE CONCRETO). AF_12/2025 | E19: UN | F19: 1
A20: 2.1.6 | B20: 962 | C20: Próprio | D20: EXECUÇÃO DE ALMOXARIFADO EM CANTEIRO DE OBRA EM CHAPA DE MADEIRA COMPENSADA, INCLUSO PRATELEIRAS. | E20: m² | F20: 15.1
A21: 2.1.7 | B21: 11839 | C21: Próprio | D21: LOCACAO DE CONTAINER 2,40 X 6,00 M, ALT. 2,50 M, PARA SANITARIO, COM 2 BACIAS, 4 CHUVEIROS, 2 LAVATORIOS E 2 MICTORIOS (NAO INCLUI MOBILIZACAO/DESMOBILIZACAO) | E21: MÊS | F21: 6
A22: 2.1.8 | B22: 20681 | C22: Próprio | D22: LOCACAO DE CONTAINER 2,30 X 6,00 M, ALT. 2,50 M, COM 1 SANITARIO, PARA ESCRITORIO, COMPLETO, SEM DIVISORIAS INTERNAS (NAO INCLUI MOBILIZACAO/DESMOBILIZACAO) | E22: MÊS | F22: 6
A23: 2.1.9 | B23: 362 | C23: Próprio | D23: EXECUÇÃO DE REFEITÓRIO EM CANTEIRO DE OBRA EM CHAPA DE MADEIRA COMPENSADA, NÃO INCLUSO MOBILIÁRIO E EQUIPAMENTOS. | E23: m² | F23: 32.4
A24: 2.1.10 | B24: 8211 | C24: Próprio | D24: BARRACÃO PARA VESTIÁRIO DE OPERÁRIOS EM TÁBUAS | E24: M² | F24: 78.1
A25: 2.1.11 | B25: 347 | C25: Próprio | D25: EXECUÇÃO DE CENTRAL DE ARMADURA EM CANTEIRO DE OBRA, NÃO INCLUSO MOBILIÁRIO E EQUIPAMENTOS | E25: m² | F25: 20
A26: 2.1.12 | B26: 2792 | C26: Próprio | D26: EXECUÇÃO DE GUARITA EM CANTEIRO DE OBRA EM CHAPA DE MADEIRA COMPENSADA, NÃO INCLUSO MOBILIÁRIO. AF_04/2016 | E26: m² | F26: 5
... A31: 2.1.17 | B31: 8294 | C31: Próprio | D31: MANUTENÇÃO DO CANTEIRO | E31: MÊS | F31: 6
A32: 2.2 | D32: MOBILIZAÇÃO E DESMOBILIZAÇÃO | F32: 1
A33: 2.2.1 | B33: 6592 | C33: Próprio | D33: MOBILIZAÇÃO OU DESMOBILIZAÇÃO DO CANTEIRO DE OBRAS - INCLUSIVE CARGA, DESCARGA E TRANSPORTE | E33: un | F33: 2
A34: 2.2.2 | B34: 6591 | C34: Próprio | D34: MOBILIZACAO OU DESMOBILIZACAO DE CONTAINER | E34: UN | F34: 4
A35: 2.2.3 | B35: 2698 | C35: Próprio | D35: MOBILIZACAO E DESMOBILIZACAO DE EQUIPAMENTOS - CARGA E DESCARGA | E35: T | F35: 88.48
A36: 2.2.4 | B36: 1400 | C36: Próprio | D36: MOBILIZACAO E DESMOBILIZACAO DE EQUIPAMENTOS - TRANSPORTE | E36: TXKM | F36: 619.362
A37: 3 | D37: DEMOLIÇÕES E REMOÇÕES | F37: 1
A38: 3.1 | B38: 97625 | C38: SINAPI | D38: DEMOLIÇÃO DE ALVENARIA PARA QUALQUER TIPO DE BLOCO, DE FORMA MECANIZADA, SEM REAPROVEITAMENTO. AF_09/2023 | E38: m³ | F38: 92.76
A39: 3.2 | B39: 97647 | C39: SINAPI | D39: REMOÇÃO DE TELHAS DE FIBROCIMENTO METÁLICA E CERÂMICA, DE FORMA MANUAL, SEM REAPROVEITAMENTO. AF_09/2023 | E39: m² | F39: 309.37
A40: 3.3 | B40: 97650 | C40: SINAPI | D40: REMOÇÃO DE TRAMA DE MADEIRA PARA COBERTURA, DE FORMA MANUAL, SEM REAPROVEITAMENTO. AF_09/2023 | E40: m² | F40: 309.37
A41: 3.4 | B41: 104790 | C41: SINAPI | D41: DEMOLIÇÃO DE PISO DE CONCRETO SIMPLES, DE FORMA MECANIZADA COM MARTELETE, SEM REAPROVEITAMENTO. AF_09/2023 | E41: m³ | F41: 30.94
A42: 3.5 | B42: 97629 | C42: SINAPI | D42: DEMOLIÇÃO DE LAJES, EM CONCRETO ARMADO, DE FORMA MECANIZADA COM MARTELETE, SEM REAPROVEITAMENTO. AF_09/2023 | E42: m³ | F42: 12.9
A43: 3.6 | B43: 100990 | C43: SINAPI | D43: CARGA, MANOBRA E DESCARGA DE SOLOS E MATERIAIS GRANULARES EM CAMINHÃO BASCULANTE 10 M³ - CARGA COM PÁ CARREGADEIRA (CAÇAMBA DE 1,7 A 2,8 M³ / 128 HP) E DESCARGA LIVRE (UNIDADE: T). AF_07/2020 | E43: T | F43: 160.31
A44: 3.7 | B44: 95878 | C44: SINAPI | D44: TRANSPORTE COM CAMINHÃO BASCULANTE DE 10 M³, EM VIA URBANA PAVIMENTADA, DMT ATÉ 30 KM (UNIDADE: TXKM). AF_07/2020 | E44: TXKM | F44: 881.71
A45: 3.8 | B45: 12010 | C45: Próprio | D45: DESTINAÇÃO FINAL DE MATERIAL ESCAVADO/ENTULHO/METRALHA (BOTA-FORA) PARA ATERRO SANITÁRIO - HORTO DOIS IRMÃOS | E45: T | F45: 160.31
...

Sheet Cronograma FF
A2: CRONOGRAMA FÍSICO E FINANCEIRO SEM DESONERAÇÃO - MODELO LICITANTE
A3: ='Resumo do Orçamento'!A3 -> Obra: | B3: ='Resumo do Orçamento'!B3 -> CONTRATAÇÃO DE EMPRESA ESPECIALIZADA EM ENGENHARIA PARA EXECUÇÃO DE SERVIÇOS DE REFORMA E AMPLIAÇÃO DA INFRAESTRUTURA URBANA E PAISAGÍSTICA DESTINADA À IMPLANTAÇÃO DE PARQUE LINEAR INTEGRADO AO PARQUE ESTADUAL HORTO DE DOIS IRMÃOS, LOCALIZADO NO MUNICÍPIO DO RECIFE, ESTADO DE PERNAMBUCO | I3: ='Resumo do Orçamento'!C3 -> Responsável técnico:
A4: ='Resumo do Orçamento'!A4 -> Local: | B4: ='Resumo do Orçamento'!B4 -> PRAÇA FARIAS NEVES, S/N - DOIS IRMÃOS, RECIFE - PE, 52171-011 | I4: ='Resumo do Orçamento'!C4 -> BDI DE SERVIÇO:
A5: ='Resumo do Orçamento'!A5 -> Data base: | I5: ='Resumo do Orçamento'!C5 -> MERO FORNECIMENTO E MERO FORNECIMENTO COM INSTALAÇÃO
A6: ='Resumo do Orçamento'!A6 -> Prazo de execução: | I6: ='Resumo do Orçamento'!C6 -> ENCARGOS SOCIAIS
A7: ITEM | B7: DESCRIÇÃO | C7: TOTAL | D7: TOTAIS | E7: 1º MÊS | F7: 2º MÊS | G7: 3º MÊS | H7: 4º MÊS | I7: 5º MÊS | J7: 6º MÊS
A8: 1 | B8: =VLOOKUP(A8, 'Resumo do Orçamento'!$A$10:$M$118, 2, 0) -> ADMINISTRAÇÃO LOCAL
A10: 2 | B10: =VLOOKUP(A10, 'Resumo do Orçamento'!$A$10:$M$118, 2, 0) -> INSTALAÇÕES PROVISÓRIAS
A12: 3 | B12: =VLOOKUP(A12, 'Resumo do Orçamento'!$A$10:$M$118, 2, 0) -> DEMOLIÇÕES E REMOÇÕES
A14: 4 | B14: =VLOOKUP(A14, 'Resumo do Orçamento'!$A$10:$M$118, 2, 0) -> QUIOSQUES (3 UNIDADES)
A16: 5 | B16: =VLOOKUP(A16, 'Resumo do Orçamento'!$A$10:$M$118, 2, 0) -> BILHETERIA
A18: 6 | B18: =VLOOKUP(A18, 'Resumo do Orçamento'!$A$10:$M$118, 2, 0) -> GUARITA
A20: 7 | B20: =VLOOKUP(A20, 'Resumo do Orçamento'!$A$10:$M$118, 2, 0) -> BANHEIROS
A22: 8 | B22: =VLOOKUP(A22, 'Resumo do Orçamento'!$A$10:$M$118, 2, 0) -> PÓRTICO/PORTARIA
A24: 9 | B24: =VLOOKUP(A24, 'Resumo do Orçamento'!$A$10:$M$118, 2, 0) -> PAINEL
A26: 10 | B26: =VLOOKUP(A26, 'Resumo do Orçamento'!$A$10:$M$118, 2, 0) -> ÁREA EXTERNA - IMPLANTAÇÃO
A28: 11 | B28: =VLOOKUP(A28, 'Resumo do Orçamento'!$A$10:$M$118, 2, 0) -> LIMPEZA FINAL DE OBRA
A30: 12 | B30: =VLOOKUP(A30, 'Resumo do Orçamento'!$A$10:$M$118, 2, 0) -> ELABORAÇÃO DE PROJETO EXECUTIVO
A33: Porcentagem SEM ADM
A34: Custo SEM ADM
A35: Porcentagem Acumulado SEM ADM
A36: Custo Acumulado SEM ADM
A38: Porcentagem COM ADM
A39: Custo COM ADM
A40: Porcentagem Acumulado COM ADM
A41: Custo Acumulado COM ADM
A42: TOTAL SEM ADM
A43: TOTAL COM ADM
A44: _______________________________________________________________
