Workbook
Name \: #REF!
Name \0: #REF!
Name \a: #REF!
Name \d: #N/A
Name \f: #N/A
Name \I: #REF!
Name \p: #N/A
Name \S: #REF!
Name \z: [1]MARSHALL!$M$3
Name _: NA()
Name ______________________CAP20: #REF!
Name ______________________TB10: #REF!
Name ______________________TCB5: #REF!
Name ______________________tcc4: #REF!
Name _____________________CAP20: #REF!
Name _____________________TB10: #REF!
Name _____________________TCB5: #REF!
Name _____________________tcc4: #REF!
Name ____________________tcc4: #REF!
Name ___________________CAP20: #REF!
Name ___________________TB10: #REF!
Name ___________________TCB5: #REF!
Name ___________________tcc4: #REF!
Name __________________CAP20: #REF!
Name __________________TB10: #REF!
Name __________________TCB5: #REF!
Name __________________tcc4: #REF!
Name _________________CAP20: #REF!
Name _________________TB10: #REF!
Name _________________TCB5: #REF!
Name _________________tcc4: #REF!
Name ________________CAP20: #REF!
Name ________________TB10: #REF!
Name ________________TCB5: #REF!
Name ________________tcc4: #REF!
Name _______________CAP20: #REF!
Name _______________r: #REF!
Name _______________TB10: #REF!
Name _______________TCB5: #REF!
Name _______________tcc4: #REF!
Name ______________CAP20: #REF!
Name ______________PL1: #REF!
Name ______________r: #REF!
Name ______________TB10: #REF!
Name ______________TCB5: #REF!
Name ______________tcc4: #REF!
Name _____________CAP20: #REF!
Name _____________PL1: #REF!
Name _____________r: #REF!
Name _____________TB10: #REF!
Name _____________TCB5: #REF!
Name _____________tcc4: #REF!
Name ____________CAP20: #REF!
Name ____________Ext2: #REF!
Name ____________PL1: #REF!
Name ____________r: #REF!
Name ____________TB10: #REF!
Name ____________TCB5: #REF!
Name ____________tcc4: #REF!
Name ___________CAP20: #REF!

Sheet CFF
C1: ANEXO B CRONOGRAMA FÍSICO FINANCEIRO Peça integrante do Volume Licitatório | AG1: Ajuste após a conclusão da ABA RESUMO
G8: =[23]ORÇAMENTO!B22 -> LOTE 01 - RMR
A9: DADOS | P9: BENEFÍCIOS E DESPESAS INDIRETAS (BDI)
A10: OBJETO: | B10: =[23]DADOS!C4 -> REGISTRO DE PREÇOS PARA CONTRATAÇÃO DE SERVIÇOS DE EXECUÇÃO DE PAVIMENTAÇÃO, CAPEAMENTO E RECAPEAMENTO ASFÁLTICO COM CONCRETO BETUMINOSO USINADO A QUENTE (CBUQ), DE PAVIMENTAÇÃO EM PEDRA GRANÍTICA, E PAVIMENTAÇÃO EM BLOCO INTERTRAVADO DE CONCRETO (BLOQUETE), NAS REGIÕES AGRESTE, MATA SUL, MATA NORTE E REGIÃO METROPOLITANA DO ESTADO DE PERNAMBUCO | P10: ÍNDICE | Q10: BDI | S10: COM DESON. | T10: SEM DESON.
P11: 1 | Q11: PADRÃO PAV
A12: DATA-BASE: | B12: =[23]DADOS!$E$6 -> 45992 | C12: DESONERAÇÃO: | D12: =[23]DADOS!$C$7 -> Não Desonerado | P12: 2 | Q12: DIFERENCIADO PAV
A13: TABELAS DE REFERÊNCIA | P13: 3 | Q13: PADRÃO EDIFICAÇÃO
A14: SINAPI | B14: =[23]DADOS!$C$12 -> 45992 | C14: SICRO | D14: =[23]DADOS!$E$12 -> 45931 | P14: 4 | Q14: DIFERENCIADO EDIFICAÇÃO
A15: COMPESA | B15: =[23]DADOS!$C$13 -> 2024.2 | C15: SEINFRA | D15: =[23]DADOS!$E$13 -> 0 | P15: 5 | Q15: MATERIAIS
A16: ORSE | B16: =[23]DADOS!$C$14 -> 45962 | C16: OUTROS | D16: =[23]DADOS!$E$14 -> 0 | P16: 6 | Q16: LOC. BENS MÓVEIS
A19: N.º | B19: ITENS DE INVESTIMENTO | C19: VALOR PREVISTO | E19: Mês 01 | G19: Mês 02 | I19: Mês 03 | K19: Mês 04 | M19: Mês 05 | O19: Mês 06 | Q19: Mês 07 | S19: Mês 08 | U19: Mês 09 | W19: Mês 10 | Y19: Mês 11 | AA19: Mês 12 | AC19: Coluna de Verificação
C20: R$ | D20: % | E20: R$ | F20: % | G20: R$ | H20: % | I20: R$ | J20: % | K20: R$ | L20: % | M20: R$ | N20: % | O20: R$ | P20: % | Q20: R$ | R20: % | S20: R$ | T20: % | U20: R$ | V20: % | W20: R$ | X20: % | Y20: R$ | Z20: % | AA20: R$ | AB20: %
A21: 1. | B21: =VLOOKUP(A21,[23]ORÇAMENTO!$A$23:$P$358,5,FALSE) -> SERVIÇOS PRELIMINARES (CANTEIRO DE OBRAS)
A22: 1.1 | B22: =VLOOKUP(A22,[23]ORÇAMENTO!$A$23:$P$358,5,FALSE) -> CANTEIRO DE OBRAS | AC22: =E22+G22+I22+K22+M22+O22+Q22+S22+U22+W22+Y22+AA22 -> 0 | AD22: =IF(AC22=C22,"OK","ERRO") -> OK | AE22: =C22-E22-G22-I22-K22-M22-O22-Q22-S22-U22-W22 -> 0 | AF22: =F22+H22+J22+L22+N22+P22+R22+T22+V22+X22+Z22+AB22 -> 0
A23: 1.2 | B23: =VLOOKUP(A23,[23]ORÇAMENTO!$A$23:$P$358,5,FALSE) -> MOBILIZAÇÃO | AC23: =E23+G23+I23+K23+M23+O23+Q23+S23+U23+W23+Y23+AA23 -> 0 | AD23: =IF(AC23=C23,"OK","ERRO") -> OK | AE23: =C23-E23-G23-I23-K23-M23-O23-Q23-S23-U23-W23-Y23 -> 0 | AF23: =F23+H23+J23+L23+N23+P23+R23+T23+V23+X23+Z23+AB23 -> 0
A24: 1.3 | B24: =VLOOKUP(A24,[23]ORÇAMENTO!$A$23:$P$358,5,FALSE) -> DESMOBILIZAÇÃO | AC24: =E24+G24+I24+K24+M24+O24+Q24+S24+U24+W24+Y24+AA24 -> 0 | AD24: =IF(AC24=C24,"OK","ERRO") -> OK | AE24: =C24-E24-G24-I24-K24-M24-O24-Q24-S24-U24-W24-Y24 -> 0 | AF24: =F24+H24+J24+L24+N24+P24+R24+T24+V24+X24+Z24+AB24 -> 0
A25: 2. | B25: =VLOOKUP(A25,[23]ORÇAMENTO!$A$23:$P$358,5,FALSE) -> EXECUÇÃO DE SERVIÇOS DE ENGENHARIA DE PAVIMENTAÇÃO ASFÁLTICA
A26: 2.1 | B26: =VLOOKUP(A26,[23]ORÇAMENTO!$A$23:$P$358,5,FALSE) -> ADMINISTRAÇÃO LOCAL | AC26: =E26+G26+I26+K26+M26+O26+Q26+S26+U26+W26+Y26+AA26 -> 0 | AD26: =IF(AC26=C26,"OK","ERRO") -> OK | AE26: =C26-E26-G26-I26-K26-M26-O26-Q26-S26-U26-W26-Y26 -> 0 | AF26: =F26+H26+J26+L26+N26+P26+R26+T26+V26+X26+Z26+AB26 -> 0
A27: 2.2 | B27: =VLOOKUP(A27,[23]ORÇAMENTO!$A$23:$P$358,5,FALSE) -> SERVIÇOS PRELIMINARES | AC27: =E27+G27+I27+K27+M27+O27+Q27+S27+U27+W27+Y27+AA27 -> 0 | AD27: =IF(AC27=C27,"OK","ERRO") -> OK | AE27: =C27-E27-G27-I27-K27-M27-O27-Q27-S27-U27-W27-Y27 -> 0 | AF27: =F27+H27+J27+L27+N27+P27+R27+T27+V27+X27+Z27+AB27 -> 0
A28: 2.3 | B28: =VLOOKUP(A28,[23]ORÇAMENTO!$A$23:$P$358,5,FALSE) -> MOBILIZAÇÃO | AC28: =E28+G28+I28+K28+M28+O28+Q28+S28+U28+W28+Y28+AA28 -> 0 | AD28: =IF(AC28=C28,"OK","ERRO") -> OK | AE28: =C28-E28-G28-I28-K28-M28-O28-Q28-S28-U28-W28-Y28 -> 0 | AF28: =F28+H28+J28+L28+N28+P28+R28+T28+V28+X28+Z28+AB28 -> 0
A29: 2.4 | B29: =VLOOKUP(A29,[23]ORÇAMENTO!$A$23:$P$358,5,FALSE) -> DESMOBILIZAÇÃO | AC29: =E29+G29+I29+K29+M29+O29+Q29+S29+U29+W29+Y29+AA29 -> 0 | AD29: =IF(AC29=C29,"OK","ERRO") -> OK | AE29: =C29-E29-G29-I29-K29-M29-O29-Q29-S29-U29-W29-Y29 -> 0 | AF29: =F29+H29+J29+L29+N29+P29+R29+T29+V29+X29+Z29+AB29 -> 0
A30: 2.5 | B30: =VLOOKUP(A30,[23]ORÇAMENTO!$A$23:$P$358,5,FALSE) -> MOVIMENTAÇÃO DE TERRA | AC30: =E30+G30+I30+K30+M30+O30+Q30+S30+U30+W30+Y30+AA30 -> 0 | AD30: =IF(AC30=C30,"OK","ERRO") -> OK | AE30: =C30-E30-G30-I30-K30-M30-O30-Q30-S30-U30-W30-Y30 -> 0 | AF30: =F30+H30+J30+L30+N30+P30+R30+T30+V30+X30+Z30+AB30 -> 0
A31: 2.6 | B31: =VLOOKUP(A31,[23]ORÇAMENTO!$A$23:$P$358,5,FALSE) -> PAVIMENTAÇÃO EM CBUQ (CONCRETO BETUMINOSO USINADO À QUENTE) | AC31: =E31+G31+I31+K31+M31+O31+Q31+S31+U31+W31+Y31+AA31 -> 0 | AD31: =IF(AC31=C31,"OK","ERRO") -> OK | AE31: =C31-E31-G31-I31-K31-M31-O31-Q31-S31-U31-W31-Y31 -> 0 | AF31: =F31+H31+J31+L31+N31+P31+R31+T31+V31+X31+Z31+AB31 -> 0
A32: 2.7 | B32: =VLOOKUP(A32,[23]ORÇAMENTO!$A$23:$P$358,5,FALSE) -> PASSEIO/PROTEÇÃO DE GUIA | AC32: =E32+G32+I32+K32+M32+O32+Q32+S32+U32+W32+Y32+AA32 -> 0 | AD32: =IF(AC32=C32,"OK","ERRO") -> OK | AE32: =C32-E32-G32-I32-K32-M32-O32-Q32-S32-U32-W32-Y32 -> 0 | AF32: =F32+H32+J32+L32+N32+P32+R32+T32+V32+X32+Z32+AB32 -> 0
A33: 2.8 | B33: =VLOOKUP(A33,[23]ORÇAMENTO!$A$23:$P$358,5,FALSE) -> DRENAGEM | AC33: =E33+G33+I33+K33+M33+O33+Q33+S33+U33+W33+Y33+AA33 -> 0 | AD33: =IF(AC33=C33,"OK","ERRO") -> OK | AE33: =C33-E33-G33-I33-K33-M33-O33-Q33-S33-U33-W33-Y33 -> 0 | AF33: =F33+H33+J33+L33+N33+P33+R33+T33+V33+X33+Z33+AB33 -> 0
A34: 2.9 | B34: =VLOOKUP(A34,[23]ORÇAMENTO!$A$23:$P$358,5,FALSE) -> SINALIZAÇÃO VIÁRIA VERTICAL | AC34: =E34+G34+I34+K34+M34+O34+Q34+S34+U34+W34+Y34+AA34 -> 0 | AD34: =IF(AC34=C34,"OK","ERRO") -> OK | AE34: =C34-E34-G34-I34-K34-M34-O34-Q34-S34-U34-W34-Y34 -> 0 | AF34: =F34+H34+J34+L34+N34+P34+R34+T34+V34+X34+Z34+AB34 -> 0
A35: 2.10 | B35: =VLOOKUP(A35,[23]ORÇAMENTO!$A$23:$P$358,5,FALSE) -> SINALIZAÇÃO VIÁRIA HORIZONTAL | AC35: =E35+G35+I35+K35+M35+O35+Q35+S35+U35+W35+Y35+AA35 -> 0 | AD35: =IF(AC35=C35,"OK","ERRO") -> OK | AE35: =C35-E35-G35-I35-K35-M35-O35-Q35-S35-U35-W35-Y35 -> 0 | AF35: =F35+H35+J35+L35+N35+P35+R35+T35+V35+X35+Z35+AB35 -> 0
A36: 2.11 | B36: =VLOOKUP(A36,[23]ORÇAMENTO!$A$23:$P$358,5,FALSE) -> SERVIÇOS COMPLEMENTARES E SINALIZAÇÃO DE OBRA | AC36: =E36+G36+I36+K36+M36+O36+Q36+S36+U36+W36+Y36+AA36 -> 0 | AD36: =IF(AC36=C36,"OK","ERRO") -> OK | AE36: =C36-E36-G36-I36-K36-M36-O36-Q36-S36-U36-W36-Y36 -> 0 | AF36: =F36+H36+J36+L36+N36+P36+R36+T36+V36+X36+Z36+AB36 -> 0
A37: 3. | B37: =VLOOKUP(A37,[23]ORÇAMENTO!$A$23:$P$358,5,FALSE) -> EXECUÇÃO DE SERVIÇOS DE ENGENHARIA PARA PAVIMENTAÇÃO DE VIA EM BLOCO DE CONCRETO INTERTRAVADO
A38: 3.1 | B38: =VLOOKUP(A38,[23]ORÇAMENTO!$A$23:$P$358,5,FALSE) -> ADMINISTRAÇÃO LOCAL | AC38: =E38+G38+I38+K38+M38+O38+Q38+S38+U38+W38+Y38+AA38 -> 0 | AD38: =IF(AC38=C38,"OK","ERRO") -> OK | AE38: =C38-E38-G38-I38-K38-M38-O38-Q38-S38-U38-W38-Y38 -> 0 | AF38: =F38+H38+J38+L38+N38+P38+R38+T38+V38+X38+Z38+AB38 -> 0
A39: 3.2 | B39: =VLOOKUP(A39,[23]ORÇAMENTO!$A$23:$P$358,5,FALSE) -> SERVIÇOS PRELIMINARES | AC39: =E39+G39+I39+K39+M39+O39+Q39+S39+U39+W39+Y39+AA39 -> 0 | AD39: =IF(AC39=C39,"OK","ERRO") -> OK | AE39: =C39-E39-G39-I39-K39-M39-O39-Q39-S39-U39-W39-Y39 -> 0 | AF39: =F39+H39+J39+L39+N39+P39+R39+T39+V39+X39+Z39+AB39 -> 0
A40: 3.3 | B40: =VLOOKUP(A40,[23]ORÇAMENTO!$A$23:$P$358,5,FALSE) -> MOBILIZAÇÃO | AC40: =E40+G40+I40+K40+M40+O40+Q40+S40+U40+W40+Y40+AA40 -> 0 | AD40: =IF(AC40=C40,"OK","ERRO") -> OK | AE40: =C40-E40-G40-I40-K40-M40-O40-Q40-S40-U40-W40-Y40 -> 0 | AF40: =F40+H40+J40+L40+N40+P40+R40+T40+V40+X40+Z40+AB40 -> 0
A41: 3.4 | B41: =VLOOKUP(A41,[23]ORÇAMENTO!$A$23:$P$358,5,FALSE) -> DESMOBILIZAÇÃO | AC41: =E41+G41+I41+K41+M41+O41+Q41+S41+U41+W41+Y41+AA41 -> 0 | AD41: =IF(AC41=C41,"OK","ERRO") -> OK | AE41: =C41-E41-G41-I41-K41-M41-O41-Q41-S41-U41-W41-Y41 -> 0 | AF41: =F41+H41+J41+L41+N41+P41+R41+T41+V41+X41+Z41+AB41 -> 0
A42: 3.5 | B42: =VLOOKUP(A42,[23]ORÇAMENTO!$A$23:$P$358,5,FALSE) -> MOVIMENTAÇÃO DE TERRA | AC42: =E42+G42+I42+K42+M42+O42+Q42+S42+U42+W42+Y42+AA42 -> 0 | AD42: =IF(AC42=C42,"OK","ERRO") -> OK | AE42: =C42-E42-G42-I42-K42-M42-O42-Q42-S42-U42-W42-Y42 -> 0 | AF42: =F42+H42+J42+L42+N42+P42+R42+T42+V42+X42+Z42+AB42 -> 0
A43: 3.6 | B43: =VLOOKUP(A43,[23]ORÇAMENTO!$A$23:$P$358,5,FALSE) -> PAVIMENTAÇÃO EM INTERTRAVADO | AC43: =E43+G43+I43+K43+M43+O43+Q43+S43+U43+W43+Y43+AA43 -> 0 | AD43: =IF(AC43=C43,"OK","ERRO") -> OK | AE43: =C43-E43-G43-I43-K43-M43-O43-Q43-S43-U43-W43-Y43 -> 0 | AF43: =F43+H43+J43+L43+N43+P43+R43+T43+V43+X43+Z43+AB43 -> 0
A44: 3.7 | B44: =VLOOKUP(A44,[23]ORÇAMENTO!$A$23:$P$358,5,FALSE) -> PASSEIO/PROTEÇÃO DE GUIA | AC44: =E44+G44+I44+K44+M44+O44+Q44+S44+U44+W44+Y44+AA44 -> 0 | AD44: =IF(AC44=C44,"OK","ERRO") -> OK | AE44: =C44-E44-G44-I44-K44-M44-O44-Q44-S44-U44-W44-Y44 -> 0 | AF44: =F44+H44+J44+L44+N44+P44+R44+T44+V44+X44+Z44+AB44 -> 0
A45: 3.8 | B45: =VLOOKUP(A45,[23]ORÇAMENTO!$A$23:$P$358,5,FALSE) -> DRENAGEM | AC45: =E45+G45+I45+K45+M45+O45+Q45+S45+U45+W45+Y45+AA45 -> 0 | AD45: =IF(AC45=C45,"OK","ERRO") -> OK | AE45: =C45-E45-G45-I45-K45-M45-O45-Q45-S45-U45-W45-Y45 -> 0 | AF45: =F45+H45+J45+L45+N45+P45+R45+T45+V45+X45+Z45+AB45 -> 0
A46: 3.9 | B46: =VLOOKUP(A46,[23]ORÇAMENTO!$A$23:$P$358,5,FALSE) -> SINALIZAÇÃO VIÁRIA VERTICAL | AC46: =E46+G46+I46+K46+M46+O46+Q46+S46+U46+W46+Y46+AA46 -> 0 | AD46: =IF(AC46=C46,"OK","ERRO") -> OK | AE46: =C46-E46-G46-I46-K46-M46-O46-Q46-S46-U46-W46-Y46 -> 0 | AF46: =F46+H46+J46+L46+N46+P46+R46+T46+V46+X46+Z46+AB46 -> 0
A47: 3.10 | B47: =VLOOKUP(A47,[23]ORÇAMENTO!$A$23:$P$358,5,FALSE) -> SERVIÇOS COMPLEMENTARES E SINALIZAÇÃO DE OBRA | AC47: =E47+G47+I47+K47+M47+O47+Q47+S47+U47+W47+Y47+AA47 -> 0 | AD47: =IF(AC47=C47,"OK","ERRO") -> OK | AE47: =C47-E47-G47-I47-K47-M47-O47-Q47-S47-U47-W47-Y47 -> 0 | AF47: =F47+H47+J47+L47+N47+P47+R47+T47+V47+X47+Z47+AB47 -> 0
A48: 4. | B48: =VLOOKUP(A48,[23]ORÇAMENTO!$A$23:$P$358,5,FALSE) -> EXECUÇÃO DE SERVIÇOS DE ENGENHARIA PARA CAPEAMENTO E/OU RECAPEAMENTO DE VIAS EM CONCRETO BETUMINOSO USINADO À QUENTE (CBUQ)
...
